BEGIN:VCALENDAR
VERSION:2.0
PRODID:-//Date iCal v2.14-dev//NONSGML kigkonsult.se iCalcreator 2.16.6//
METHOD:PUBLISH
X-WR-CALNAME;VALUE=TEXT:Greater Baltimore Cultural Alliance
BEGIN:VTIMEZONE
TZID:America/New_York
BEGIN:STANDARD
DTSTART:20251102T020000
TZOFFSETFROM:-0400
TZOFFSETTO:-0500
TZNAME:EST
END:STANDARD
BEGIN:DAYLIGHT
DTSTART:20250309T020000
TZOFFSETFROM:-0500
TZOFFSETTO:-0400
RDATE:20260308T020000
TZNAME:EDT
END:DAYLIGHT
END:VTIMEZONE
BEGIN:VEVENT
UID:calendar.37356.field_fc_date.0@culturefly.org
DTSTAMP:20260420T180142Z
ATTACH;FMTTYPE=image/png:https://culturefly.org/sites/default/files/event-i
 mage/Jazz%20on%20the%20Edge%20poster%20-Final%20Community%20Flyer.png
CATEGORIES:Performance
CREATED:20250209T200402Z
DESCRIPTION:The Edgewood High School (EHS) Band Boosters is proud to bring 
 back a beloved  event. Please join us for the inaugural 'Jazz on the Edge'
  concert on  Saturday, March 29, 2025 at 7pm featuring critically acclai
 med musician  Warren Wolf.
DTSTART;TZID=America/New_York:20250329T190000
DTEND;TZID=America/New_York:20250329T200000
LAST-MODIFIED:20250211T141601Z
LOCATION:Edgewood High School Auditorium, 2415 Willoughby Beach Road, Edg
 ewood, MD
SUMMARY:Jazz on the Edge
URL:https://www.ehs-band.com/jazz-on-the-edge.html
X-GBCA-NID:37356
END:VEVENT
END:VCALENDAR
