BEGIN:VCALENDAR
VERSION:2.0
PRODID:-//Date iCal v2.14-dev//NONSGML kigkonsult.se iCalcreator 2.16.6//
METHOD:PUBLISH
X-WR-CALNAME;VALUE=TEXT:Greater Baltimore Cultural Alliance
BEGIN:VTIMEZONE
TZID:America/New_York
BEGIN:STANDARD
DTSTART:20251102T020000
TZOFFSETFROM:-0400
TZOFFSETTO:-0500
TZNAME:EST
END:STANDARD
BEGIN:DAYLIGHT
DTSTART:20250309T020000
TZOFFSETFROM:-0500
TZOFFSETTO:-0400
TZNAME:EDT
END:DAYLIGHT
END:VTIMEZONE
BEGIN:VEVENT
UID:calendar.37346.field_fc_date.0@culturefly.org
DTSTAMP:20260421T165716Z
ATTACH;FMTTYPE=image/png:https://culturefly.org/sites/default/files/event-i
 mage/Untitled%20design%20%281%29_1.png
CATEGORIES:History & Heritage,Nightlife
CREATED:20250206T223522Z
DESCRIPTION:Join us as we celebrate 8 years of craft beer, good food, and
  great community  with a three-day celebration! Our weekend caps off with 
 a special whiskey  event featuring Uncle Nearest Premium Whiskey - a brand
  that honors Nathan  'Nearest' Green, the first known African-American ma
 ster distiller in the  United States.
DTSTART;TZID=America/New_York:20250221T210000
DTEND;TZID=America/New_York:20250222T000000
LAST-MODIFIED:20250218T132613Z
LOCATION:The Brass Tap Baltimore, 1205 W Mt Royal Ave, The Brass Tap Balt
 imore, MD
SUMMARY:The Brass Tap Baltimore 8th Anniversary Bash
URL:https://www.eventbrite.com/e/the-brass-tap-baltimore-8th-anniversary-ba
 sh-tickets-1238155479369?aff=oddtdtcreator
X-GBCA-NID:37346
END:VEVENT
BEGIN:VEVENT
UID:calendar.37346.field_fc_date.0@culturefly.org
DTSTAMP:20260421T165716Z
ATTACH;FMTTYPE=image/png:https://culturefly.org/sites/default/files/event-i
 mage/Untitled%20design%20%281%29_1.png
CATEGORIES:History & Heritage,Nightlife
CREATED:20250206T223522Z
DESCRIPTION:Join us as we celebrate 8 years of craft beer, good food, and
  great community  with a three-day celebration! Our weekend caps off with 
 a special whiskey  event featuring Uncle Nearest Premium Whiskey - a brand
  that honors Nathan  'Nearest' Green, the first known African-American ma
 ster distiller in the  United States.
DTSTART;TZID=America/New_York:20250222T100000
DTEND;TZID=America/New_York:20250223T000000
LAST-MODIFIED:20250218T132613Z
LOCATION:The Brass Tap Baltimore, 1205 W Mt Royal Ave, The Brass Tap Balt
 imore, MD
SUMMARY:The Brass Tap Baltimore 8th Anniversary Bash
URL:https://www.eventbrite.com/e/the-brass-tap-baltimore-8th-anniversary-ba
 sh-tickets-1238155479369?aff=oddtdtcreator
X-GBCA-NID:37346
END:VEVENT
BEGIN:VEVENT
UID:calendar.37346.field_fc_date.0@culturefly.org
DTSTAMP:20260421T165716Z
ATTACH;FMTTYPE=image/png:https://culturefly.org/sites/default/files/event-i
 mage/Untitled%20design%20%281%29_1.png
CATEGORIES:History & Heritage,Nightlife
CREATED:20250206T223522Z
DESCRIPTION:Join us as we celebrate 8 years of craft beer, good food, and
  great community  with a three-day celebration! Our weekend caps off with 
 a special whiskey  event featuring Uncle Nearest Premium Whiskey - a brand
  that honors Nathan  'Nearest' Green, the first known African-American ma
 ster distiller in the  United States.
DTSTART;TZID=America/New_York:20250223T100000
DTEND;TZID=America/New_York:20250324T000000
LAST-MODIFIED:20250218T132613Z
LOCATION:The Brass Tap Baltimore, 1205 W Mt Royal Ave, The Brass Tap Balt
 imore, MD
SUMMARY:The Brass Tap Baltimore 8th Anniversary Bash
URL:https://www.eventbrite.com/e/the-brass-tap-baltimore-8th-anniversary-ba
 sh-tickets-1238155479369?aff=oddtdtcreator
X-GBCA-NID:37346
END:VEVENT
END:VCALENDAR
