BEGIN:VCALENDAR
VERSION:2.0
PRODID:-//Date iCal v2.14-dev//NONSGML kigkonsult.se iCalcreator 2.16.6//
METHOD:PUBLISH
X-WR-CALNAME;VALUE=TEXT:Greater Baltimore Cultural Alliance
BEGIN:VTIMEZONE
TZID:America/New_York
BEGIN:STANDARD
DTSTART:20251102T020000
TZOFFSETFROM:-0400
TZOFFSETTO:-0500
TZNAME:EST
END:STANDARD
BEGIN:DAYLIGHT
DTSTART:20250309T020000
TZOFFSETFROM:-0500
TZOFFSETTO:-0400
TZNAME:EDT
END:DAYLIGHT
END:VTIMEZONE
BEGIN:VEVENT
UID:calendar.37342.field_fc_date.0@culturefly.org
DTSTAMP:20260420T101256Z
ATTACH;FMTTYPE=image/png:https://culturefly.org/sites/default/files/event-i
 mage/Screen%20Shot%202025-02-06%20at%205.03.10%20PM.png
CATEGORIES:Performance
CREATED:20250206T220626Z
DESCRIPTION:*Erik Ruin & Elizabeth LaPrelle at Black Cherry Puppet Theater*
 \n\n*Friday, February 21 AND Saturday, February 22 Showtimes at 7:30pm *
 Doors open at 7pm\n\nTickets Sliding Scale $12.50-$17.50 Available HERE! [
 1]\n\n\n[1] https://blackcherry.ticketspice.com/erikruinelizabethlaprelle
DTSTART;TZID=America/New_York:20250221T193000
DTEND;TZID=America/New_York:20250221T210000
GEO:+39.287228;-76.635758
LAST-MODIFIED:20250207T135822Z
LOCATION:Black Cherry Puppet Theater, 1115 Hollins Street, Baltimore, MD
SUMMARY:Erik Ruin & Elizabeth LaPrelle: an evening of ballads and crankies
URL:http://blackcherrypuppettheater.weebly.com/upcoming-events.html
X-GBCA-NID:37342
END:VEVENT
BEGIN:VEVENT
UID:calendar.37342.field_fc_date.0@culturefly.org
DTSTAMP:20260420T101256Z
ATTACH;FMTTYPE=image/png:https://culturefly.org/sites/default/files/event-i
 mage/Screen%20Shot%202025-02-06%20at%205.03.10%20PM.png
CATEGORIES:Performance
CREATED:20250206T220626Z
DESCRIPTION:*Erik Ruin & Elizabeth LaPrelle at Black Cherry Puppet Theater*
 \n\n*Friday, February 21 AND Saturday, February 22 Showtimes at 7:30pm *
 Doors open at 7pm\n\nTickets Sliding Scale $12.50-$17.50 Available HERE! [
 1]\n\n\n[1] https://blackcherry.ticketspice.com/erikruinelizabethlaprelle
DTSTART;TZID=America/New_York:20250222T193000
DTEND;TZID=America/New_York:20250222T193000
GEO:+39.287228;-76.635758
LAST-MODIFIED:20250207T135822Z
LOCATION:Black Cherry Puppet Theater, 1115 Hollins Street, Baltimore, MD
SUMMARY:Erik Ruin & Elizabeth LaPrelle: an evening of ballads and crankies
URL:http://blackcherrypuppettheater.weebly.com/upcoming-events.html
X-GBCA-NID:37342
END:VEVENT
END:VCALENDAR
