BEGIN:VCALENDAR
VERSION:2.0
PRODID:-//Date iCal v2.14-dev//NONSGML kigkonsult.se iCalcreator 2.16.6//
METHOD:PUBLISH
X-WR-CALNAME;VALUE=TEXT:Greater Baltimore Cultural Alliance
BEGIN:VTIMEZONE
TZID:America/New_York
BEGIN:STANDARD
DTSTART:20251102T020000
TZOFFSETFROM:-0400
TZOFFSETTO:-0500
TZNAME:EST
END:STANDARD
BEGIN:DAYLIGHT
DTSTART:20250309T020000
TZOFFSETFROM:-0500
TZOFFSETTO:-0400
TZNAME:EDT
END:DAYLIGHT
END:VTIMEZONE
BEGIN:VEVENT
UID:calendar.37338.field_fc_date.0@culturefly.org
DTSTAMP:20260419T082339Z
ATTACH;FMTTYPE=image/png:https://culturefly.org/sites/default/files/event-i
 mage/Old%20Major%20March%202025-2-March%202025%20Instagram%20Old%20Major%2
 0%281%29.png
CATEGORIES:Performance,Activities,Nightlife
CREATED:20250206T213241Z
DESCRIPTION:Come enjoy a night of fast-paced comedy games with some of the 
 city's  funniest people! Grab a drink, some food, a great seat and get r
 eady to have  some major laughs!\n\nThe Lineup!\n\nBig Worm is a Baltimore
 -based indie improv team. Their show is a fast, fresh,  character driven
  montage!\n\nMohan and Millie is an indie Baltimore duo who get emotional 
 and get weird!\n\nLord Baltimort is a long running Baltimore indie team th
 at can do it all!\n\nWhat is an improv show, exactly?
DTSTART;TZID=America/New_York:20250301T190000
DTEND;TZID=America/New_York:20250301T210000
LAST-MODIFIED:20250207T135822Z
LOCATION:Old Major, 900 S. Carey Street, Baltimore, MD
SUMMARY:Major Laughs at Old Major!
URL:https://www.highwireimprov.com
X-GBCA-NID:37338
END:VEVENT
END:VCALENDAR
