BEGIN:VCALENDAR
VERSION:2.0
PRODID:-//Date iCal v2.14-dev//NONSGML kigkonsult.se iCalcreator 2.16.6//
METHOD:PUBLISH
X-WR-CALNAME;VALUE=TEXT:Greater Baltimore Cultural Alliance
BEGIN:VTIMEZONE
TZID:America/New_York
BEGIN:STANDARD
DTSTART:20251102T020000
TZOFFSETFROM:-0400
TZOFFSETTO:-0500
TZNAME:EST
END:STANDARD
BEGIN:DAYLIGHT
DTSTART:20250309T020000
TZOFFSETFROM:-0500
TZOFFSETTO:-0400
RDATE:20260308T020000
TZNAME:EDT
END:DAYLIGHT
END:VTIMEZONE
BEGIN:VEVENT
UID:calendar.37337.field_fc_date.0@culturefly.org
DTSTAMP:20260421T163707Z
ATTACH;FMTTYPE=image/png:https://culturefly.org/sites/default/files/event-i
 mage/March%20Madness%202025-2-Instagram.png
CATEGORIES:Performance,Activities,Nightlife
CREATED:20250206T213050Z
DESCRIPTION:It's majesty, it's competition, it's spectacular plays. Check
  out the improv  event of the season just before the NCAA tournament heats
  up - fill out your  bracket for this 16-person improv competition with hi
 larous games, physical  challenges, surprise judges, and much, much mo
 re.\n\nIt's a comedy show to kick off the big dance - come out and have so
 me fun  with us!\n\nAbout the venue:
DTSTART;TZID=America/New_York:20250308T190000
DTEND;TZID=America/New_York:20250308T210000
LAST-MODIFIED:20260130T001300Z
LOCATION:Riverside Third Space, 1530 Battery Avenue, Baltimore, MD
SUMMARY:March Mayhem: The Improv Show!
URL:https://www.highwireimprov.com
X-GBCA-NID:37337
END:VEVENT
END:VCALENDAR
