BEGIN:VCALENDAR
VERSION:2.0
PRODID:-//Date iCal v2.14-dev//NONSGML kigkonsult.se iCalcreator 2.16.6//
METHOD:PUBLISH
X-WR-CALNAME;VALUE=TEXT:Greater Baltimore Cultural Alliance
BEGIN:VTIMEZONE
TZID:America/New_York
BEGIN:STANDARD
DTSTART:20251102T020000
TZOFFSETFROM:-0400
TZOFFSETTO:-0500
TZNAME:EST
END:STANDARD
BEGIN:DAYLIGHT
DTSTART:20250309T020000
TZOFFSETFROM:-0500
TZOFFSETTO:-0400
TZNAME:EDT
END:DAYLIGHT
END:VTIMEZONE
BEGIN:VEVENT
UID:calendar.37324.field_fc_date.0@culturefly.org
DTSTAMP:20260421T132733Z
ATTACH;FMTTYPE=image/jpeg:https://culturefly.org/sites/default/files/u4566/
 20241125_175416.jpg
CATEGORIES:Exhibition
CREATED:20250205T162451Z
DESCRIPTION:*Gallery II: /In Full Bloom /*\n\nAn invitational exhibit in co
 njunction with Blossoms of Hope's Countywide Art  Show. Featuring artworks
  inspired by the beauty of Howard County's blossoming  trees.\n\n*Receptio
 n: February 21, 6-8pm*; Free & open to the public with live music  and l
 ight refreshments; Snow date: February 28.\n\n*Gallery Hours:*\n\n * M-F:
  10am-8pm  * Sat: 10am-4pm  * Sun: 12-4pm\n\n*Closed: Feb. 17*
DTSTART;TZID=America/New_York:20250214T100000
DTEND;TZID=America/New_York:20250214T200000
GEO:+39.292068;-76.804963
LAST-MODIFIED:20250830T001256Z
LOCATION:Howard County Center for the Arts, 8510 High Ridge Road, Ellicot
 t City, MD
RRULE:FREQ=WEEKLY;UNTIL=20250329T075959Z;INTERVAL=1;BYDAY=MO,TU,WE,TH,FR;WK
 ST=SU
SUMMARY:In Full Bloom: A Celebration of Blossoms of Hope
URL:https://www.hocoarts.org
X-GBCA-NID:37324
END:VEVENT
END:VCALENDAR
