BEGIN:VCALENDAR
VERSION:2.0
PRODID:-//Date iCal v2.14-dev//NONSGML kigkonsult.se iCalcreator 2.16.6//
METHOD:PUBLISH
X-WR-CALNAME;VALUE=TEXT:Greater Baltimore Cultural Alliance
BEGIN:VTIMEZONE
TZID:America/New_York
BEGIN:STANDARD
DTSTART:20251102T020000
TZOFFSETFROM:-0400
TZOFFSETTO:-0500
TZNAME:EST
END:STANDARD
BEGIN:DAYLIGHT
DTSTART:20260308T020000
TZOFFSETFROM:-0500
TZOFFSETTO:-0400
TZNAME:EDT
END:DAYLIGHT
END:VTIMEZONE
BEGIN:VEVENT
UID:calendar.37323.field_fc_date.0@culturefly.org
DTSTAMP:20260421T115750Z
ATTACH;FMTTYPE=image/jpeg:https://culturefly.org/sites/default/files/event-
 image/IMG_8492.jpeg
CATEGORIES:Performance,Activities,Outdoors
CREATED:20250205T144611Z
DESCRIPTION:FOR IMMEDIATE RELEASE Contact: Scotti Morrow Email: communicati
 ons@twsb.org [1] Phone: 410-367-6808\n\nKidStock: Earth Week Concert & Com
 munity Celebration at the Waldorf School of  Baltimore\n\nBaltimore, MD –
  The Waldorf School of Baltimore invites families to  celebrate Earth Week
  with KidStock, a morning of live music, environmental  education, and 
 hands-on eco activities on Sunday, April 27, from 9 a.m. to  noon.\n\n\n
 [1] mailto:communications@twsb.org
DTSTART;TZID=America/New_York:20250427T090000
DTEND;TZID=America/New_York:20250427T120000
LAST-MODIFIED:20250205T145924Z
LOCATION:The Waldorf School of Baltimore, 4801 Tamarind Road, Baltimore,
  MD
SUMMARY:Kidstock
URL:waldorfschoolofbaltimore.org
X-GBCA-NID:37323
END:VEVENT
END:VCALENDAR
