BEGIN:VCALENDAR
VERSION:2.0
PRODID:-//Date iCal v2.14-dev//NONSGML kigkonsult.se iCalcreator 2.16.6//
METHOD:PUBLISH
X-WR-CALNAME;VALUE=TEXT:Greater Baltimore Cultural Alliance
BEGIN:VTIMEZONE
TZID:America/New_York
BEGIN:STANDARD
DTSTART:20251102T020000
TZOFFSETFROM:-0400
TZOFFSETTO:-0500
TZNAME:EST
END:STANDARD
BEGIN:DAYLIGHT
DTSTART:20250309T020000
TZOFFSETFROM:-0500
TZOFFSETTO:-0400
TZNAME:EDT
END:DAYLIGHT
END:VTIMEZONE
BEGIN:VEVENT
UID:calendar.37316.field_fc_date.0@culturefly.org
DTSTAMP:20260420T102338Z
ATTACH;FMTTYPE=image/jpeg:https://culturefly.org/sites/default/files/event-
 image/96065.jpeg
CATEGORIES:Performance
CREATED:20250203T212722Z
DESCRIPTION:Join us for an afternoon of fun, fandom, and friendly competi
 tion, hosted by  Charm City Trivia. Test your knowledge, gather your cre
 w, and play for a  great cause—100% of donations go to The Casey Cares Fo
 undation, so every  player makes a difference! Date: Sunday, February 23
 rd Time: 2:00pm Location: Twain’s Tavern Suggested Donation: $5\n\n**Famil
 ies are Welcome** Call (410) 647-5200 to reserve a table!
DTSTART;TZID=America/New_York:20250223T140000
DTEND;TZID=America/New_York:20250223T170000
LAST-MODIFIED:20250204T133743Z
LOCATION:Twain’s Tavern     , 8359 Baltimore Annapolis Boulevard, Pasaden
 a, MD
SUMMARY:Taylor Swift Trivia for Charity
URL:https://eventvesta.com/events/96065/t/tickets
X-GBCA-NID:37316
END:VEVENT
END:VCALENDAR
