BEGIN:VCALENDAR
VERSION:2.0
PRODID:-//Date iCal v2.14-dev//NONSGML kigkonsult.se iCalcreator 2.16.6//
METHOD:PUBLISH
X-WR-CALNAME;VALUE=TEXT:Greater Baltimore Cultural Alliance
BEGIN:VTIMEZONE
TZID:America/New_York
BEGIN:STANDARD
DTSTART:20251102T020000
TZOFFSETFROM:-0400
TZOFFSETTO:-0500
TZNAME:EST
END:STANDARD
BEGIN:DAYLIGHT
DTSTART:20250309T020000
TZOFFSETFROM:-0500
TZOFFSETTO:-0400
TZNAME:EDT
END:DAYLIGHT
END:VTIMEZONE
BEGIN:VEVENT
UID:calendar.37273.field_fc_date.0@culturefly.org
DTSTAMP:20260420T101718Z
ATTACH;FMTTYPE=image/jpeg:https://culturefly.org/sites/default/files/event-
 image/wates3.jpg
CATEGORIES:Performance
CREATED:20250131T220326Z
DESCRIPTION:Monthly *open mic* Folk Music Night [1] is held Saturdays. *Adm
 ission is  free*, but donations are welcome. Further info: 410-529-7176. 
 The featured  performer this month is Rupert Wates [2].\n\n\n[1] https://w
 ww.folkmusicnight.com/ [2] http://www.rupertwatesmusic.com/
DTSTART;TZID=America/New_York:20250222T190000
DTEND;TZID=America/New_York:20250222T220000
LAST-MODIFIED:20250204T150251Z
LOCATION:Perry Hall United Methodist Church, 9515 Belair Rd., Baltimore,
  MD
SUMMARY:Perry Hall Folk Music Night, featuring Rupert Wates
URL:https://www.folkmusicnight.com/
X-GBCA-NID:37273
END:VEVENT
END:VCALENDAR
