BEGIN:VCALENDAR
VERSION:2.0
PRODID:-//Date iCal v2.14-dev//NONSGML kigkonsult.se iCalcreator 2.16.6//
METHOD:PUBLISH
X-WR-CALNAME;VALUE=TEXT:Greater Baltimore Cultural Alliance
BEGIN:VTIMEZONE
TZID:America/New_York
BEGIN:STANDARD
DTSTART:20251102T020000
TZOFFSETFROM:-0400
TZOFFSETTO:-0500
TZNAME:EST
END:STANDARD
BEGIN:DAYLIGHT
DTSTART:20260308T020000
TZOFFSETFROM:-0500
TZOFFSETTO:-0400
TZNAME:EDT
END:DAYLIGHT
END:VTIMEZONE
BEGIN:VEVENT
UID:calendar.37257.field_fc_date.0@culturefly.org
DTSTAMP:20260421T214146Z
ATTACH;FMTTYPE=image/jpeg:https://culturefly.org/sites/default/files/event-
 image/IMG_3842.jpg
CATEGORIES:Activities,Outdoors
CREATED:20250131T201530Z
DESCRIPTION:Celebration for Earth Day, including various activities, musi
 c, food, and  more. Call 410-857-2400 for more information.
DTSTART;TZID=America/New_York:20250425T110000
DTEND;TZID=America/New_York:20250425T130000
GEO:+39.584877;-77.00179
LAST-MODIFIED:20250204T150255Z
LOCATION:Memorial Plaza, McDaniel College, 2 College Hill, Westminster,
  MD
SUMMARY:Earth Day Fair
URL:https://www.mcdaniel.edu/about-us/event-calendars
X-GBCA-NID:37257
END:VEVENT
END:VCALENDAR
