BEGIN:VCALENDAR
VERSION:2.0
PRODID:-//Date iCal v2.14-dev//NONSGML kigkonsult.se iCalcreator 2.16.6//
METHOD:PUBLISH
X-WR-CALNAME;VALUE=TEXT:Greater Baltimore Cultural Alliance
BEGIN:VTIMEZONE
TZID:America/New_York
BEGIN:STANDARD
DTSTART:20251102T020000
TZOFFSETFROM:-0400
TZOFFSETTO:-0500
TZNAME:EST
END:STANDARD
BEGIN:DAYLIGHT
DTSTART:20250309T020000
TZOFFSETFROM:-0500
TZOFFSETTO:-0400
RDATE:20260308T020000
TZNAME:EDT
END:DAYLIGHT
END:VTIMEZONE
BEGIN:VEVENT
UID:calendar.37254.field_fc_date.0@culturefly.org
DTSTAMP:20260421T102045Z
ATTACH;FMTTYPE=image/jpeg:https://culturefly.org/sites/default/files/event-
 image/mcdaniel_logo_339933%20%282%29_2.jpg
CATEGORIES:Activities
CREATED:20250131T200117Z
DESCRIPTION:*Monday, March 11, beginning at 9 a.m., until Tuesday, Marc
 h 12, at 4:07 p.m.  (1,867 min. in honor of the year the college was fou
 nded)*\n\n*Online or on campus with events in Ensor Lounge, Roj Student C
 enter*\n\nGive in support of current and future McDaniel students. Visit  
 www.mcdaniel.edu/1867challenge [1] for more information.\n\n\n[1] http://w
 ww.mcdaniel.edu/1867challenge
DTSTART;TZID=America/New_York:20250311T090000
DTEND;TZID=America/New_York:20250312T160000
LAST-MODIFIED:20250204T150255Z
LOCATION:Mid-level and Naganna Forum, Roj Student Center , 2 College Hill
 , Westminster, MD
SUMMARY:1867 Challenge
URL:www.mcdaniel.edu/1867challenge
X-GBCA-NID:37254
END:VEVENT
END:VCALENDAR
