BEGIN:VCALENDAR
VERSION:2.0
PRODID:-//Date iCal v2.14-dev//NONSGML kigkonsult.se iCalcreator 2.16.6//
METHOD:PUBLISH
X-WR-CALNAME;VALUE=TEXT:Greater Baltimore Cultural Alliance
BEGIN:VTIMEZONE
TZID:America/New_York
BEGIN:STANDARD
DTSTART:20251102T020000
TZOFFSETFROM:-0400
TZOFFSETTO:-0500
TZNAME:EST
END:STANDARD
BEGIN:DAYLIGHT
DTSTART:20260308T020000
TZOFFSETFROM:-0500
TZOFFSETTO:-0400
TZNAME:EDT
END:DAYLIGHT
END:VTIMEZONE
BEGIN:VEVENT
UID:calendar.37248.field_fc_date.0@culturefly.org
DTSTAMP:20260421T231642Z
ATTACH;FMTTYPE=image/jpeg:https://culturefly.org/sites/default/files/event-
 image/IMG_7519.jpg
CATEGORIES:Performance,Outdoors
CREATED:20250131T192818Z
DESCRIPTION:Hosted by McDaniel College’s English department and Sigma Tau D
 elta  International English Honor Society, this annual celebration of the
  life and  works of William Shakespeare includes readings and performances
  by McDaniel  students and faculty. Call 410-857-2530 for more information
 .
DTSTART;TZID=America/New_York:20250423T163000
DTEND;TZID=America/New_York:20250423T163000
GEO:+39.584877;-77.00179
LAST-MODIFIED:20250204T150256Z
LOCATION:Memorial Plaza, McDaniel College, 2 College Hill, Westminster,
  MD
SUMMARY:Shakespeare in the Square
URL:https://www.mcdaniel.edu/about-us/event-calendars
X-GBCA-NID:37248
END:VEVENT
END:VCALENDAR
