BEGIN:VCALENDAR
VERSION:2.0
PRODID:-//Date iCal v2.14-dev//NONSGML kigkonsult.se iCalcreator 2.16.6//
METHOD:PUBLISH
X-WR-CALNAME;VALUE=TEXT:Greater Baltimore Cultural Alliance
BEGIN:VTIMEZONE
TZID:America/New_York
BEGIN:STANDARD
DTSTART:20251102T020000
TZOFFSETFROM:-0400
TZOFFSETTO:-0500
TZNAME:EST
END:STANDARD
BEGIN:DAYLIGHT
DTSTART:20250309T020000
TZOFFSETFROM:-0500
TZOFFSETTO:-0400
RDATE:20260308T020000
TZNAME:EDT
END:DAYLIGHT
END:VTIMEZONE
BEGIN:VEVENT
UID:calendar.37234.field_fc_date.0@culturefly.org
DTSTAMP:20260421T092115Z
ATTACH;FMTTYPE=image/jpeg:https://culturefly.org/sites/default/files/event-
 image/2025%20Free%20Calendar%20Listing%20600x600.jpg
CATEGORIES:Performance
CREATED:20250131T165657Z
DESCRIPTION:*JOIN US FOR A SHAKESPEAREAN ROMP WITH A BALTIMORE TWIST!*\n\n*
 Mistaken identities, outrageous antics, and double the hilarity—*\n\n*/I
 t’s The Comedy of Errors, Hon!/ is coming your way!* Packed with iconic  
 moments and characters that could only come from Charm City!\n\nNot one, 
 but /two/ sets of twins separated at birth find themselves in  Baltimore a
 t the same time, leaving a whirlwind of mix-ups, comic chases, and  cha
 os in their wake.
DTSTART;TZID=America/New_York:20250214T200000
DTEND;TZID=America/New_York:20250214T220000
GEO:+39.289077;-76.612142
LAST-MODIFIED:20250204T150258Z
LOCATION:Chesapeake Shakespeare Company, 7 South Calvert Street, Baltimor
 e, MD
SUMMARY:It's the Comedy of Errors, Hon!
URL:https://www.chesapeakeshakespeare.com/shows-tickets/coe/
X-GBCA-NID:37234
END:VEVENT
BEGIN:VEVENT
UID:calendar.37234.field_fc_date.0@culturefly.org
DTSTAMP:20260421T092115Z
ATTACH;FMTTYPE=image/jpeg:https://culturefly.org/sites/default/files/event-
 image/2025%20Free%20Calendar%20Listing%20600x600.jpg
CATEGORIES:Performance
CREATED:20250131T165657Z
DESCRIPTION:*JOIN US FOR A SHAKESPEAREAN ROMP WITH A BALTIMORE TWIST!*\n\n*
 Mistaken identities, outrageous antics, and double the hilarity—*\n\n*/I
 t’s The Comedy of Errors, Hon!/ is coming your way!* Packed with iconic  
 moments and characters that could only come from Charm City!\n\nNot one, 
 but /two/ sets of twins separated at birth find themselves in  Baltimore a
 t the same time, leaving a whirlwind of mix-ups, comic chases, and  cha
 os in their wake.
DTSTART;TZID=America/New_York:20250309T140000
DTEND;TZID=America/New_York:20250309T160000
GEO:+39.289077;-76.612142
LAST-MODIFIED:20250204T150258Z
LOCATION:Chesapeake Shakespeare Company, 7 South Calvert Street, Baltimor
 e, MD
SUMMARY:It's the Comedy of Errors, Hon!
URL:https://www.chesapeakeshakespeare.com/shows-tickets/coe/
X-GBCA-NID:37234
END:VEVENT
END:VCALENDAR
