BEGIN:VCALENDAR
VERSION:2.0
PRODID:-//Date iCal v2.14-dev//NONSGML kigkonsult.se iCalcreator 2.16.6//
METHOD:PUBLISH
X-WR-CALNAME;VALUE=TEXT:Greater Baltimore Cultural Alliance
BEGIN:VTIMEZONE
TZID:America/New_York
BEGIN:STANDARD
DTSTART:20251102T020000
TZOFFSETFROM:-0400
TZOFFSETTO:-0500
TZNAME:EST
END:STANDARD
BEGIN:DAYLIGHT
DTSTART:20250309T020000
TZOFFSETFROM:-0500
TZOFFSETTO:-0400
RDATE:20260308T020000
TZNAME:EDT
END:DAYLIGHT
END:VTIMEZONE
BEGIN:VEVENT
UID:calendar.37222.field_fc_date.0@culturefly.org
DTSTAMP:20260421T201802Z
ATTACH;FMTTYPE=image/jpeg:https://culturefly.org/sites/default/files/event-
 image/Rice%20Gallery%202%202022%20%281%29.jpg
CATEGORIES:Exhibition
CREATED:20250130T151838Z
DESCRIPTION:/Opening reception: Thursday, March 13, 5:30-7:30 p.m., with
  a gallery talk  at 6 p.m./\n\n“Is this the real life? Is this just fantas
 y” showcases works by McDaniel  College Honors Art seniors Gillian Girod,
  Art major from Westminster,  Maryland, Lacy Newhouse, Art major from W
 estminster, Maryland, Art major from  North East, Maryland, Sarah Wats
 on, Art major from York, Pennsylvania, and  Aaliyah Williams, Art and 
 Communication major from LaPlata, Maryland.
DTSTART;TZID=America/New_York:20250313T173000
DTEND;TZID=America/New_York:20250313T193000
LAST-MODIFIED:20250130T165441Z
LOCATION:The Esther Prangley Rice Gallery, McDaniel College, 2 College Hi
 ll, Westminster, MD
SUMMARY:Honors Art Exhibition
URL:https://www.mcdaniel.edu/about-us/event-calendars
X-GBCA-NID:37222
END:VEVENT
END:VCALENDAR
