BEGIN:VCALENDAR
VERSION:2.0
PRODID:-//Date iCal v2.14-dev//NONSGML kigkonsult.se iCalcreator 2.16.6//
METHOD:PUBLISH
X-WR-CALNAME;VALUE=TEXT:Greater Baltimore Cultural Alliance
BEGIN:VTIMEZONE
TZID:America/New_York
BEGIN:STANDARD
DTSTART:20251102T020000
TZOFFSETFROM:-0400
TZOFFSETTO:-0500
TZNAME:EST
END:STANDARD
BEGIN:DAYLIGHT
DTSTART:20250309T020000
TZOFFSETFROM:-0500
TZOFFSETTO:-0400
TZNAME:EDT
END:DAYLIGHT
END:VTIMEZONE
BEGIN:VEVENT
UID:calendar.37218.field_fc_date.0@culturefly.org
DTSTAMP:20260421T213604Z
ATTACH;FMTTYPE=image/png:https://culturefly.org/sites/default/files/u2239/o
 utta%20this%20binary.png
CATEGORIES:Performance,Nightlife,GBCA Events
CREATED:20250129T205624Z
DESCRIPTION:*Doors open at 7:00p.m. Show starts at 7:30 p.m. *\n\n*$15 onli
 ne, $20 at the door*\n\nTipping the performers is encouraged!\n\nJoin us 
 at the Catonsville Clubhouse for a dazzling showcase of  gender-bending pe
 rformance art, hosted by the fabulous Orion Ridgely.\n\nLocal drag icons 
 join the recent graduates of our “Unleashing Your Inner  Drag Royalty” cla
 ss for an inspiring drag show that transcends the gender  binary.\n\nDon’t
  let this shooting star pass you by; secure your tickets now!
DTSTART;TZID=America/New_York:20250208T190000
DTEND;TZID=America/New_York:20250208T213000
LAST-MODIFIED:20250730T001256Z
LOCATION:BCAG Catonsville Clubhouse , Suite 200, 10 St. Timothys Lane, C
 atonsville, MD
SUMMARY:Outta This Binary! A Gender-Expansive Drag Show
URL:https://www.bcartsguild.org/event-details/outta-this-binary-a-gender-ex
 pansive-drag-show
X-GBCA-NID:37218
END:VEVENT
END:VCALENDAR
