BEGIN:VCALENDAR
VERSION:2.0
PRODID:-//Date iCal v2.14-dev//NONSGML kigkonsult.se iCalcreator 2.16.6//
METHOD:PUBLISH
X-WR-CALNAME;VALUE=TEXT:Greater Baltimore Cultural Alliance
BEGIN:VTIMEZONE
TZID:America/New_York
BEGIN:STANDARD
DTSTART:20251102T020000
TZOFFSETFROM:-0400
TZOFFSETTO:-0500
TZNAME:EST
END:STANDARD
BEGIN:DAYLIGHT
DTSTART:20250309T020000
TZOFFSETFROM:-0500
TZOFFSETTO:-0400
TZNAME:EDT
END:DAYLIGHT
END:VTIMEZONE
BEGIN:VEVENT
UID:calendar.37199.field_fc_date.0@culturefly.org
DTSTAMP:20260421T132611Z
ATTACH;FMTTYPE=image/png:https://culturefly.org/sites/default/files/event-i
 mage/Launchpad%203.png
CATEGORIES:Lectures/ Workshops
CREATED:20250126T021931Z
DESCRIPTION:An in-person session that will provide attendees with computers
 , internet  access and application support for our grassroots fund applic
 ation.
DTSTART;TZID=America/New_York:20250127T130000
DTEND;TZID=America/New_York:20250127T170000
LAST-MODIFIED:20250127T125606Z
LOCATION:Baltimore Unity Hall, 1505 Eutaw Place, Baltimore, MD
SUMMARY:Launchpad #3
URL:https://bcyfund.org/connect/pata/
X-GBCA-NID:37199
END:VEVENT
END:VCALENDAR
