BEGIN:VCALENDAR
VERSION:2.0
PRODID:-//Date iCal v2.14-dev//NONSGML kigkonsult.se iCalcreator 2.16.6//
METHOD:PUBLISH
X-WR-CALNAME;VALUE=TEXT:Greater Baltimore Cultural Alliance
BEGIN:VTIMEZONE
TZID:America/New_York
BEGIN:STANDARD
DTSTART:20251102T020000
TZOFFSETFROM:-0400
TZOFFSETTO:-0500
TZNAME:EST
END:STANDARD
BEGIN:DAYLIGHT
DTSTART:20250309T020000
TZOFFSETFROM:-0500
TZOFFSETTO:-0400
RDATE:20260308T020000
TZNAME:EDT
END:DAYLIGHT
END:VTIMEZONE
BEGIN:VEVENT
UID:calendar.37194.field_fc_date.0@culturefly.org
DTSTAMP:20260421T164051Z
ATTACH;FMTTYPE=image/png:https://culturefly.org/sites/default/files/event-i
 mage/humanitiespr_1200x900.png
CATEGORIES:Lectures/ Workshops
CREATED:20250125T002450Z
DESCRIPTION:Amitav Ghosh – the award-winning novelist named by Foreign Poli
 cy magazine  as “one of the most important global thinkers of the precedin
 g decade”  – will discuss migration in the age of climate change. He will 
 share  poignant stories he gathered from migrant camps in Italy, told in 
 the  migrants' native languages, offering a unique window into the person
 al  journeys of those displaced by climate-induced challenges.
DTSTART;TZID=America/New_York:20250313T183000
DTEND;TZID=America/New_York:20250313T200000
LAST-MODIFIED:20250127T125606Z
LOCATION:Loyola University Maryland McGuire Hall, 4501 North Charles St.,
  Andrew White Student Center, Baltimore, MD
SUMMARY:Loyola University Maryland 2025Humanities Symposium Keynote Address
URL:www.loyola.edu/symposium
X-GBCA-NID:37194
END:VEVENT
END:VCALENDAR
