BEGIN:VCALENDAR
VERSION:2.0
PRODID:-//Date iCal v2.14-dev//NONSGML kigkonsult.se iCalcreator 2.16.6//
METHOD:PUBLISH
X-WR-CALNAME;VALUE=TEXT:Greater Baltimore Cultural Alliance
BEGIN:VTIMEZONE
TZID:America/New_York
BEGIN:STANDARD
DTSTART:20251102T020000
TZOFFSETFROM:-0400
TZOFFSETTO:-0500
TZNAME:EST
END:STANDARD
BEGIN:DAYLIGHT
DTSTART:20250309T020000
TZOFFSETFROM:-0500
TZOFFSETTO:-0400
RDATE:20260308T020000
TZNAME:EDT
END:DAYLIGHT
END:VTIMEZONE
BEGIN:VEVENT
UID:calendar.37188.field_fc_date.0@culturefly.org
DTSTAMP:20260421T085017Z
ATTACH;FMTTYPE=image/jpeg:https://culturefly.org/sites/default/files/event-
 image/YMSB_Stage_WEB-scaled.jpg
CATEGORIES:Performance,Other
CREATED:20250122T211652Z
DESCRIPTION:These pioneers of the modern jamgrass movement blend bluegrass 
 with elements  of rock, alternative, psychedelic and improvisational mus
 ic into an  innovative high-energy acoustic sound and light show.
DTSTART;TZID=America/New_York:20250320T193000
DTEND;TZID=America/New_York:20250320T213000
LAST-MODIFIED:20250127T125606Z
LOCATION:The Gordon Center, 3506 Gwynnbrook Avenue, Owings Mills, MD
SUMMARY:Yonder Mountain String Band
URL:https://gordoncenter.com/event/yonder-mountain-string-band/
X-GBCA-NID:37188
END:VEVENT
END:VCALENDAR
