BEGIN:VCALENDAR
VERSION:2.0
PRODID:-//Date iCal v2.14-dev//NONSGML kigkonsult.se iCalcreator 2.16.6//
METHOD:PUBLISH
X-WR-CALNAME;VALUE=TEXT:Greater Baltimore Cultural Alliance
BEGIN:VTIMEZONE
TZID:America/New_York
BEGIN:STANDARD
DTSTART:20251102T020000
TZOFFSETFROM:-0400
TZOFFSETTO:-0500
TZNAME:EST
END:STANDARD
BEGIN:DAYLIGHT
DTSTART:20250309T020000
TZOFFSETFROM:-0500
TZOFFSETTO:-0400
TZNAME:EDT
END:DAYLIGHT
END:VTIMEZONE
BEGIN:VEVENT
UID:calendar.37176.field_fc_date.0@culturefly.org
DTSTAMP:20260421T181939Z
ATTACH;FMTTYPE=image/png:https://culturefly.org/sites/default/files/event-i
 mage/Copy%20of%20ZR%20LILA%20Carousel%20A.png
CATEGORIES:Performance,Nightlife
CREATED:20250120T010701Z
DESCRIPTION:Zora's Room\n\nFebruary Theme: Love Is, Love Ain't\n\nDates: F
 riday, February 14th AND Saturday, February 15th\n\nTime: 7:00 PM - 10:0
 0 PM\n\nLocation: 1201 W Mt. Royal Ave., Baltimore, MD 21217
DTSTART;TZID=America/New_York:20250214T190000
DTEND;TZID=America/New_York:20250214T220000
LAST-MODIFIED:20250121T032202Z
LOCATION:The Fitzgerald, 1201 W. Mt. Royal Avenue, Baltimore, MD
SUMMARY:Zora's Room
URL:www.ZorasRoom.com
X-GBCA-NID:37176
END:VEVENT
END:VCALENDAR
