BEGIN:VCALENDAR
VERSION:2.0
PRODID:-//Date iCal v2.14-dev//NONSGML kigkonsult.se iCalcreator 2.16.6//
METHOD:PUBLISH
X-WR-CALNAME;VALUE=TEXT:Greater Baltimore Cultural Alliance
BEGIN:VTIMEZONE
TZID:America/New_York
BEGIN:STANDARD
DTSTART:20251102T020000
TZOFFSETFROM:-0400
TZOFFSETTO:-0500
TZNAME:EST
END:STANDARD
BEGIN:DAYLIGHT
DTSTART:20250309T020000
TZOFFSETFROM:-0500
TZOFFSETTO:-0400
TZNAME:EDT
END:DAYLIGHT
END:VTIMEZONE
BEGIN:VEVENT
UID:calendar.37151.field_fc_date.0@culturefly.org
DTSTAMP:20260421T153056Z
ATTACH;FMTTYPE=image/jpeg:https://culturefly.org/sites/default/files/event-
 image/Aaron%20Hill.jpg
CATEGORIES:Performance,Nightlife
CREATED:20250115T195919Z
DESCRIPTION:Join Aaron Hill at An die Musik Live as he presents a solo pian
 o program in  tribute to music legend Stevie Wonder!\n\nAaron Hill is a mu
 lti-talented individual, proficient in music, audio  engineering, philo
 sophy, theology, psychology, psychotherapy, mindfulness,  meditation\
 , business, and entrepreneurship.
DTSTART;TZID=America/New_York:20250130T190000
DTEND;TZID=America/New_York:20250130T210000
LAST-MODIFIED:20250121T032209Z
LOCATION:An Die Musik Live, 409 North Charles Street Second Floor, Baltim
 ore, MD
SUMMARY:Aaron Hill Tribute to Stevie Wonder
URL:https://www.instantseats.com/?fuseaction=home.artist&VenueID=321&artist
 id=19579
X-GBCA-NID:37151
END:VEVENT
END:VCALENDAR
