BEGIN:VCALENDAR
VERSION:2.0
PRODID:-//Date iCal v2.14-dev//NONSGML kigkonsult.se iCalcreator 2.16.6//
METHOD:PUBLISH
X-WR-CALNAME;VALUE=TEXT:Greater Baltimore Cultural Alliance
BEGIN:VTIMEZONE
TZID:America/New_York
BEGIN:STANDARD
DTSTART:20251102T020000
TZOFFSETFROM:-0400
TZOFFSETTO:-0500
TZNAME:EST
END:STANDARD
BEGIN:DAYLIGHT
DTSTART:20250309T020000
TZOFFSETFROM:-0500
TZOFFSETTO:-0400
TZNAME:EDT
END:DAYLIGHT
END:VTIMEZONE
BEGIN:VEVENT
UID:calendar.37150.field_fc_date.0@culturefly.org
DTSTAMP:20260421T163737Z
ATTACH;FMTTYPE=image/jpeg:https://culturefly.org/sites/default/files/event-
 image/Rick%20Alberico.jpg
CATEGORIES:Performance,Nightlife
CREATED:20250115T195203Z
DESCRIPTION:Join the Rick Alberico Jazz Project for an evening of straight-
 ahead jazz at  An die Musik Live!\n\nRick Alberico, sax Bob Butta, piano
  Chuck Karner, drums Jeron White, bass
DTSTART;TZID=America/New_York:20250126T130000
DTEND;TZID=America/New_York:20250126T150000
LAST-MODIFIED:20250121T032209Z
LOCATION:An Die Musik Live, 409 North Charles Street Second Floor, Baltim
 ore, MD
SUMMARY:Rick Alberico Jazz Project
URL:https://www.instantseats.com/?fuseaction=home.artist&VenueID=321&artist
 id=37537
X-GBCA-NID:37150
END:VEVENT
END:VCALENDAR
