BEGIN:VCALENDAR
VERSION:2.0
PRODID:-//Date iCal v2.14-dev//NONSGML kigkonsult.se iCalcreator 2.16.6//
METHOD:PUBLISH
X-WR-CALNAME;VALUE=TEXT:Greater Baltimore Cultural Alliance
BEGIN:VTIMEZONE
TZID:America/New_York
BEGIN:STANDARD
DTSTART:20251102T020000
TZOFFSETFROM:-0400
TZOFFSETTO:-0500
TZNAME:EST
END:STANDARD
BEGIN:DAYLIGHT
DTSTART:20250309T020000
TZOFFSETFROM:-0500
TZOFFSETTO:-0400
RDATE:20260308T020000
TZNAME:EDT
END:DAYLIGHT
END:VTIMEZONE
BEGIN:VEVENT
UID:calendar.37149.field_fc_date.0@culturefly.org
DTSTAMP:20260420T132644Z
ATTACH;FMTTYPE=image/jpeg:https://culturefly.org/sites/default/files/event-
 image/FDQ_foto2%20white%20bg.jpg
CATEGORIES:Performance,Nightlife
CREATED:20250115T170628Z
DESCRIPTION:Brazilian arts presenter EducArte welcomes Brazil’s most import
 ant samba  band of all time: Grupo Fundo de Quintal (Backyard Group). Perf
 orming for the  first time in the DC region, Fundo de Quintal is the most
  awarded and  respected group in the history of samba pagode. They have de
 fined the genre  and created instruments that are now essential to the sam
 ba pagode, creating  their signature sound that includes cavaco-banjo, t
 antã, and repique de  mão.
DTSTART;TZID=America/New_York:20250319T193000
DTEND;TZID=America/New_York:20250319T230000
LAST-MODIFIED:20250121T032209Z
LOCATION:Black Cat, 1811 14th St NW, Washington, DC
SUMMARY:Fundo de Quintal at Black Cat (DC)
URL:https://www.educarteinc.org/event/fundo-de-quintal-at-black-cat-dc/?utm
 _campaign=fundo25&utm_source=calendar-listing&utm_medium=gbca-culture-fly
X-GBCA-NID:37149
END:VEVENT
END:VCALENDAR
