BEGIN:VCALENDAR
VERSION:2.0
PRODID:-//Date iCal v2.14-dev//NONSGML kigkonsult.se iCalcreator 2.16.6//
METHOD:PUBLISH
X-WR-CALNAME;VALUE=TEXT:Greater Baltimore Cultural Alliance
BEGIN:VTIMEZONE
TZID:America/New_York
BEGIN:STANDARD
DTSTART:20251102T020000
TZOFFSETFROM:-0400
TZOFFSETTO:-0500
TZNAME:EST
END:STANDARD
BEGIN:DAYLIGHT
DTSTART:20260308T020000
TZOFFSETFROM:-0500
TZOFFSETTO:-0400
TZNAME:EDT
END:DAYLIGHT
END:VTIMEZONE
BEGIN:VEVENT
UID:calendar.37141.field_fc_date.0@culturefly.org
DTSTAMP:20260419T082429Z
ATTACH;FMTTYPE=image/jpeg:https://culturefly.org/sites/default/files/u4548/
 4-29-2025%20Hileman%20Courtesy%20of%20The%20American%20University%20Museum
 %20at%20the%20Katzen%20Arts%20Center.jpg
CATEGORIES:Lectures/ Workshops,History & Heritage
CREATED:20250113T225155Z
DESCRIPTION:Art Seminar Group's Hybrid In-Person and Online Program\n\nMaki
 ng Art History as We Go: Reexamining the Corcoran Collection\n\nKristen Hi
 leman, independent curator\n\nReception 1:00 - 1:30 pm
DTSTART;TZID=America/New_York:20250429T133000
DTEND;TZID=America/New_York:20250429T150000
LAST-MODIFIED:20251204T081256Z
LOCATION:The Women's Club of Roland Park, 4500 Roland Avenue, Baltimore,
  MD
SUMMARY:LECTURE: Kristen Hileman, 'Making Art History as We Go: Reexaminin
 g the  Corcoran Collection'
URL:https://www.artseminargroup.org/events/lecture-kristen-hileman-making-a
 rt-history-as-we-go-reexamining-the-corcoran-collection
X-GBCA-NID:37141
END:VEVENT
END:VCALENDAR
