BEGIN:VCALENDAR
VERSION:2.0
PRODID:-//Date iCal v2.14-dev//NONSGML kigkonsult.se iCalcreator 2.16.6//
METHOD:PUBLISH
X-WR-CALNAME;VALUE=TEXT:Greater Baltimore Cultural Alliance
BEGIN:VTIMEZONE
TZID:America/New_York
BEGIN:STANDARD
DTSTART:20251102T020000
TZOFFSETFROM:-0400
TZOFFSETTO:-0500
TZNAME:EST
END:STANDARD
BEGIN:DAYLIGHT
DTSTART:20260308T020000
TZOFFSETFROM:-0500
TZOFFSETTO:-0400
TZNAME:EDT
END:DAYLIGHT
END:VTIMEZONE
BEGIN:VEVENT
UID:calendar.37140.field_fc_date.0@culturefly.org
DTSTAMP:20260419T121853Z
ATTACH;FMTTYPE=image/jpeg:https://culturefly.org/sites/default/files/u4548/
 4-22-2025%20Aneta%20frida_kahlo.jpg
CATEGORIES:Lectures/ Workshops,History & Heritage
CREATED:20250113T224602Z
DESCRIPTION:Art Seminar Group's Hybrid In-Person and Online Program\n\nChan
 ging Perspectives on the 'Self' by Women Artists\n\nAneta Georgievska-Shin
 e, professor of art history, University of Maryland\n\nReception 10:30 -
  11:00 am
DTSTART;TZID=America/New_York:20250422T110000
DTEND;TZID=America/New_York:20250422T123000
LAST-MODIFIED:20251204T081256Z
LOCATION:The Women's Club of Roland Park, 4500 Roland Avenue, Baltimore,
  MD
SUMMARY:LECTURE: Aneta Georgievska-Shine, 'Changing Perspectives on the 'S
 elf' by  Women Artists'
URL:https://www.artseminargroup.org/events/lecture-aneta-georgievska-shine-
 changing-perspectives-on-the-self-by-women-artists
X-GBCA-NID:37140
END:VEVENT
END:VCALENDAR
