BEGIN:VCALENDAR
VERSION:2.0
PRODID:-//Date iCal v2.14-dev//NONSGML kigkonsult.se iCalcreator 2.16.6//
METHOD:PUBLISH
X-WR-CALNAME;VALUE=TEXT:Greater Baltimore Cultural Alliance
BEGIN:VTIMEZONE
TZID:America/New_York
BEGIN:STANDARD
DTSTART:20251102T020000
TZOFFSETFROM:-0400
TZOFFSETTO:-0500
TZNAME:EST
END:STANDARD
BEGIN:DAYLIGHT
DTSTART:20250309T020000
TZOFFSETFROM:-0500
TZOFFSETTO:-0400
RDATE:20260308T020000
TZNAME:EDT
END:DAYLIGHT
END:VTIMEZONE
BEGIN:VEVENT
UID:calendar.37137.field_fc_date.0@culturefly.org
DTSTAMP:20260421T200533Z
ATTACH;FMTTYPE=image/jpeg:https://culturefly.org/sites/default/files/u4548/
 4-3-2025%20Aneta%20portraits.jpg
CATEGORIES:Lectures/ Workshops,History & Heritage
CREATED:20250113T220915Z
DESCRIPTION:Art Seminar Group Online Program\n\nPortraits and Performances:
  between the Public and the Private Realm\n\nAneta Georgievska-Shine, pro
 fessor of art history, University of Maryland\n\nEvery portrait is both i
 ntended to create an impression of truth and a  carefully staged performan
 ce. How are these aspects of the 'private' and  'public' expressed within 
 a single image? This lecture addresses the way in  which the emphasis on t
 he individual self and group identity have evolved  over time.\n\n$15 fee 
 for guests and subscribers (no fee for members)
DTSTART;TZID=America/New_York:20250403T110000
DTEND;TZID=America/New_York:20250403T123000
LAST-MODIFIED:20251204T081256Z
LOCATION:Virtual Event!, This event takes place online., Participate from
  Anywhere you are!, MD
SUMMARY:WEBINAR: Aneta Georgievska-Shine, 'Portraits and Performances: bet
 ween the  Public and the Private Realm'
URL:https://www.artseminargroup.org/events/webinar-aneta-georgievska-shine-
 portraits-and-performances-between-the-public-and-the-private-realm
X-GBCA-NID:37137
END:VEVENT
END:VCALENDAR
