BEGIN:VCALENDAR
VERSION:2.0
PRODID:-//Date iCal v2.14-dev//NONSGML kigkonsult.se iCalcreator 2.16.6//
METHOD:PUBLISH
X-WR-CALNAME;VALUE=TEXT:Greater Baltimore Cultural Alliance
BEGIN:VTIMEZONE
TZID:America/New_York
BEGIN:STANDARD
DTSTART:20251102T020000
TZOFFSETFROM:-0400
TZOFFSETTO:-0500
TZNAME:EST
END:STANDARD
BEGIN:DAYLIGHT
DTSTART:20250309T020000
TZOFFSETFROM:-0500
TZOFFSETTO:-0400
RDATE:20260308T020000
TZNAME:EDT
END:DAYLIGHT
END:VTIMEZONE
BEGIN:VEVENT
UID:calendar.37134.field_fc_date.0@culturefly.org
DTSTAMP:20260420T102154Z
ATTACH;FMTTYPE=image/jpeg:https://culturefly.org/sites/default/files/u4548/
 3-18-2025%20Judah%20Adashi.jpg
CATEGORIES:Lectures/ Workshops,History & Heritage
CREATED:20250113T215239Z
DESCRIPTION:Art Seminar Group Hybrid In-Person and Online Program\n\nTabula
  Rasa: The Music of Arvo Pärt\n\nJudah Adashi, composer and composition f
 aculty at Peabody Institute of the  Johns Hopkins University, artistic di
 rector, Evolution Contemporary Music  Series & Rise Bmore\n\nReception 1 
 - 1:30 pm
DTSTART;TZID=America/New_York:20250318T133000
DTEND;TZID=America/New_York:20250318T150000
LAST-MODIFIED:20251204T081256Z
LOCATION:The Women's Club of Roland Park, 4500 Roland Avenue, Baltimore,
  MD
SUMMARY:LECTURE: Judah Adashi, 'Tabula Rasa: The Music of Arvo Pärt'
URL:https://www.artseminargroup.org/events/lecture-judah-adashi-tabula-rasa
 -the-music-of-arvo-prt-2025
X-GBCA-NID:37134
END:VEVENT
END:VCALENDAR
