BEGIN:VCALENDAR
VERSION:2.0
PRODID:-//Date iCal v2.14-dev//NONSGML kigkonsult.se iCalcreator 2.16.6//
METHOD:PUBLISH
X-WR-CALNAME;VALUE=TEXT:Greater Baltimore Cultural Alliance
BEGIN:VTIMEZONE
TZID:America/New_York
BEGIN:STANDARD
DTSTART:20251102T020000
TZOFFSETFROM:-0400
TZOFFSETTO:-0500
TZNAME:EST
END:STANDARD
BEGIN:DAYLIGHT
DTSTART:20250309T020000
TZOFFSETFROM:-0500
TZOFFSETTO:-0400
TZNAME:EDT
END:DAYLIGHT
END:VTIMEZONE
BEGIN:VEVENT
UID:calendar.37125.field_fc_date.0@culturefly.org
DTSTAMP:20260420T102217Z
ATTACH;FMTTYPE=image/jpeg:https://culturefly.org/sites/default/files/u4548/
 file.jpg
CATEGORIES:Lectures/ Workshops,History & Heritage
CREATED:20250113T204547Z
DESCRIPTION:Art Seminar Group's Hybrid In-Person and Online Program\n\nThe 
 Good Shepherd: Symbolism, Mysticism, and Tanner's Spiritual Conversion\n
 \nLori Nel Johnson, Ph.D., associate professor of art history, Morgan S
 tate  University\n\nReception 1 - 1:30 pm
DTSTART;TZID=America/New_York:20250211T133000
DTEND;TZID=America/New_York:20250211T150000
LAST-MODIFIED:20251204T081256Z
LOCATION:The Women's Club of Roland Park, 4500 Roland Avenue, Baltimore,
  MD
SUMMARY:LECTURE: Lori Nel Johnson, 'The Good Shepherd: Symbolism, Mystici
 sm, and  Tanner's Spiritual Conversion'
URL:https://www.artseminargroup.org/events/lecture-lori-nel-johnson-the-goo
 d-shepherd-symbolism-mysticism-and-tanners-spiritual-conversion
X-GBCA-NID:37125
END:VEVENT
END:VCALENDAR
