BEGIN:VCALENDAR
VERSION:2.0
PRODID:-//Date iCal v2.14-dev//NONSGML kigkonsult.se iCalcreator 2.16.6//
METHOD:PUBLISH
X-WR-CALNAME;VALUE=TEXT:Greater Baltimore Cultural Alliance
BEGIN:VTIMEZONE
TZID:America/New_York
BEGIN:STANDARD
DTSTART:20251102T020000
TZOFFSETFROM:-0400
TZOFFSETTO:-0500
TZNAME:EST
END:STANDARD
BEGIN:DAYLIGHT
DTSTART:20250309T020000
TZOFFSETFROM:-0500
TZOFFSETTO:-0400
TZNAME:EDT
END:DAYLIGHT
END:VTIMEZONE
BEGIN:VEVENT
UID:calendar.37124.field_fc_date.0@culturefly.org
DTSTAMP:20260421T084826Z
ATTACH;FMTTYPE=image/png:https://culturefly.org/sites/default/files/u4548/2
 -4-2025%20Ruffolo%20Bottecelli%20image.png
CATEGORIES:Lectures/ Workshops,History & Heritage
CREATED:20250113T202241Z
DESCRIPTION:Art Seminar Group Online Program\n\nBotticelli: Beauty, Banker
 s and the Bonfire of the Vanities\n\nElaine Ruffolo, Renaissance art hist
 orian
DTSTART;TZID=America/New_York:20250204T133000
DTEND;TZID=America/New_York:20250204T150000
LAST-MODIFIED:20251204T081256Z
LOCATION:Virtual Event!, This event takes place online., Participate from
  Anywhere you are!, MD
SUMMARY:WEBINAR: Elaine Ruffolo, 'Botticelli: Beauty, Bankers and the Bon
 fire of the  Vanities'
URL:https://www.artseminargroup.org/events/webinar-elaine-ruffolo-botticell
 i-beauty-bankers-and-the-bonfire-of-the-vanities
X-GBCA-NID:37124
END:VEVENT
END:VCALENDAR
