BEGIN:VCALENDAR
VERSION:2.0
PRODID:-//Date iCal v2.14-dev//NONSGML kigkonsult.se iCalcreator 2.16.6//
METHOD:PUBLISH
X-WR-CALNAME;VALUE=TEXT:Greater Baltimore Cultural Alliance
BEGIN:VTIMEZONE
TZID:America/New_York
BEGIN:STANDARD
DTSTART:20251102T020000
TZOFFSETFROM:-0400
TZOFFSETTO:-0500
TZNAME:EST
END:STANDARD
BEGIN:DAYLIGHT
DTSTART:20250309T020000
TZOFFSETFROM:-0500
TZOFFSETTO:-0400
TZNAME:EDT
END:DAYLIGHT
END:VTIMEZONE
BEGIN:VEVENT
UID:calendar.37123.field_fc_date.0@culturefly.org
DTSTAMP:20260421T164031Z
ATTACH;FMTTYPE=image/jpeg:https://culturefly.org/sites/default/files/u4548/
 1-28-2025%20Quentin%20Walston%20on%20Duke%20Ellington.jpeg
CATEGORIES:Lectures/ Workshops,History & Heritage
CREATED:20250113T200917Z
DESCRIPTION:Art Seminar Group Hybrid In-Person and Online Program\n\nDuke E
 llington\n\nQuentin Walston, pianist, composer, educator\n\nReception 1
  - 1:30 pm
DTSTART;TZID=America/New_York:20250128T133000
DTEND;TZID=America/New_York:20250128T150000
LAST-MODIFIED:20251204T081256Z
LOCATION:The Women's Club of Roland Park, 4500 Roland Avenue, Baltimore,
  MD
SUMMARY:LECTURE/CONCERT: Quentin Walston, 'Duke Ellington'
URL:https://www.artseminargroup.org/events/lecture/concert-quentin-walston-
 duke-ellington
X-GBCA-NID:37123
END:VEVENT
END:VCALENDAR
