BEGIN:VCALENDAR
VERSION:2.0
PRODID:-//Date iCal v2.14-dev//NONSGML kigkonsult.se iCalcreator 2.16.6//
METHOD:PUBLISH
X-WR-CALNAME;VALUE=TEXT:Greater Baltimore Cultural Alliance
BEGIN:VTIMEZONE
TZID:America/New_York
BEGIN:STANDARD
DTSTART:20251102T020000
TZOFFSETFROM:-0400
TZOFFSETTO:-0500
TZNAME:EST
END:STANDARD
BEGIN:DAYLIGHT
DTSTART:20250309T020000
TZOFFSETFROM:-0500
TZOFFSETTO:-0400
TZNAME:EDT
END:DAYLIGHT
END:VTIMEZONE
BEGIN:VEVENT
UID:calendar.37121.field_fc_date.0@culturefly.org
DTSTAMP:20260421T200544Z
ATTACH;FMTTYPE=image/png:https://culturefly.org/sites/default/files/u4548/1
 -14-2025%20Ruffolo%20Siena%201.png
CATEGORIES:Lectures/ Workshops,History & Heritage
CREATED:20250113T165758Z
DESCRIPTION:ART SEMINAR GROUP ONLINE PROGRAM\n\nSiena: A Gothic Dream\n\nEl
 aine Ruffolo, Renaissance art historian
DTSTART;TZID=America/New_York:20250114T133000
DTEND;TZID=America/New_York:20250114T150000
LAST-MODIFIED:20251204T081256Z
LOCATION:Virtual Event!, This event takes place online., Participate from
  Anywhere you are!, MD
SUMMARY:WEBINAR: Elaine Ruffolo, 'Siena: A Gothic Dream'
URL:https://www.artseminargroup.org/events/webinar-elaine-ruffolo-siena-a-g
 othic-dream
X-GBCA-NID:37121
END:VEVENT
END:VCALENDAR
