BEGIN:VCALENDAR
VERSION:2.0
PRODID:-//Date iCal v2.14-dev//NONSGML kigkonsult.se iCalcreator 2.16.6//
METHOD:PUBLISH
X-WR-CALNAME;VALUE=TEXT:Greater Baltimore Cultural Alliance
BEGIN:VTIMEZONE
TZID:America/New_York
BEGIN:STANDARD
DTSTART:20251102T020000
TZOFFSETFROM:-0400
TZOFFSETTO:-0500
TZNAME:EST
END:STANDARD
BEGIN:DAYLIGHT
DTSTART:20250309T020000
TZOFFSETFROM:-0500
TZOFFSETTO:-0400
TZNAME:EDT
END:DAYLIGHT
END:VTIMEZONE
BEGIN:VEVENT
UID:calendar.37111.field_fc_date.0@culturefly.org
DTSTAMP:20260421T115841Z
ATTACH;FMTTYPE=image/jpeg:https://culturefly.org/sites/default/files/event-
 image/1727296179198.jpg
CATEGORIES:Lectures/ Workshops,Activities,History & Heritage
CREATED:20250109T173141Z
DESCRIPTION:Join the B&O Railroad Museum this Martin Luther King Jr. Weeken
 d for a  Celebration of Freedom!\n\nJanuary 19 & 20 from 10:00 am to 4:00 
 pm, come out to enjoy special  programming including educational activiti
 es for children, a tour, and our  main event – a lecture and discussion 
 by Reverend Alvin C. Hathaway of  Union Baptist Church!\n\nOn January 19,
  from 1 pm to 4 pm, we will be offering free admission so that  all can a
 ttend Reverend Hathaway’s 2 pm – 3:30 pm lecture about Supreme  Court Just
 ice and enjoy lite refreshments.
DTSTART;TZID=America/New_York:20250119T100000
DTEND;TZID=America/New_York:20250119T160000
GEO:+39.285422;-76.632745
LAST-MODIFIED:20250114T205017Z
LOCATION:B&O Railroad Museum, 901 W. Pratt Street, Baltimore, MD
RRULE:FREQ=DAILY;COUNT=1;INTERVAL=1;WKST=SU
SUMMARY:Martin Luther King Jr Weekend: A Celebration of Freedom
URL:https://www.borail.org/events/celebration-of-freedom/
X-GBCA-NID:37111
END:VEVENT
END:VCALENDAR
