BEGIN:VCALENDAR
VERSION:2.0
PRODID:-//Date iCal v2.14-dev//NONSGML kigkonsult.se iCalcreator 2.16.6//
METHOD:PUBLISH
X-WR-CALNAME;VALUE=TEXT:Greater Baltimore Cultural Alliance
BEGIN:VTIMEZONE
TZID:America/New_York
BEGIN:STANDARD
DTSTART:20251102T020000
TZOFFSETFROM:-0400
TZOFFSETTO:-0500
TZNAME:EST
END:STANDARD
BEGIN:DAYLIGHT
DTSTART:20250309T020000
TZOFFSETFROM:-0500
TZOFFSETTO:-0400
TZNAME:EDT
END:DAYLIGHT
END:VTIMEZONE
BEGIN:VEVENT
UID:calendar.37097.field_fc_date.0@culturefly.org
DTSTAMP:20260421T200321Z
ATTACH;FMTTYPE=image/png:https://culturefly.org/sites/default/files/event-i
 mage/Nashville%20Night.png
CATEGORIES:Performance,Nightlife
CREATED:20250102T233414Z
DESCRIPTION:Making His Debut - Rising Nashville Country Star MIGGS is at Tw
 ains Tavern in  Pasadena, MD– Get Ready for a Rowdy Good Time! Join MIGGS
  and his band for some damn good country music, and an  unforgettable nig
 ht! Grab your friends and come early – it's going to be a  weekend kick-of
 f you won’t want to miss. YeeYEE!\n\nCome Early | Stay Late | Get Rowdy | 
 Official Website | www.miggscountrymusic.com [1]\n\n\n[1] http://www.miggs
 countrymusic.com
DTSTART;TZID=America/New_York:20250124T213000
DTEND;TZID=America/New_York:20250125T010000
LAST-MODIFIED:20250107T174130Z
LOCATION:Twain’s Tavern     , 8359 Baltimore Annapolis Boulevard, Pasaden
 a, MD
SUMMARY:Nashville Night w/ MIGGS
URL:https://cli.re/92290-nashville-night-w-miggs
X-GBCA-NID:37097
END:VEVENT
END:VCALENDAR
