BEGIN:VCALENDAR
VERSION:2.0
PRODID:-//Date iCal v2.14-dev//NONSGML kigkonsult.se iCalcreator 2.16.6//
METHOD:PUBLISH
X-WR-CALNAME;VALUE=TEXT:Greater Baltimore Cultural Alliance
BEGIN:VTIMEZONE
TZID:America/New_York
BEGIN:STANDARD
DTSTART:20251102T020000
TZOFFSETFROM:-0400
TZOFFSETTO:-0500
TZNAME:EST
END:STANDARD
BEGIN:DAYLIGHT
DTSTART:20250309T020000
TZOFFSETFROM:-0500
TZOFFSETTO:-0400
TZNAME:EDT
END:DAYLIGHT
END:VTIMEZONE
BEGIN:VEVENT
UID:calendar.37084.field_fc_date.0@culturefly.org
DTSTAMP:20260421T200708Z
ATTACH;FMTTYPE=image/png:https://culturefly.org/sites/default/files/event-i
 mage/300x300_USNAChamberPlayers.png
CATEGORIES:Performance
CREATED:20250102T070254Z
DESCRIPTION:A FREE concert with the United States Naval Academy Band's Cham
 ber Players.
DTSTART;TZID=America/New_York:20250130T193000
DTEND;TZID=America/New_York:20250130T213000
LAST-MODIFIED:20250107T174138Z
LOCATION:The Gordon Center, 3506 Gwynnbrook Avenue, Owings Mills, MD
SUMMARY:USNA Chamber Players
URL:https://gordoncenter.com/event/usna-chamber-players/
X-GBCA-NID:37084
END:VEVENT
END:VCALENDAR
