BEGIN:VCALENDAR
VERSION:2.0
PRODID:-//Date iCal v2.14-dev//NONSGML kigkonsult.se iCalcreator 2.16.6//
METHOD:PUBLISH
X-WR-CALNAME;VALUE=TEXT:Greater Baltimore Cultural Alliance
BEGIN:VTIMEZONE
TZID:America/New_York
BEGIN:STANDARD
DTSTART:20251102T020000
TZOFFSETFROM:-0400
TZOFFSETTO:-0500
TZNAME:EST
END:STANDARD
BEGIN:DAYLIGHT
DTSTART:20250309T020000
TZOFFSETFROM:-0500
TZOFFSETTO:-0400
TZNAME:EDT
END:DAYLIGHT
END:VTIMEZONE
BEGIN:VEVENT
UID:calendar.37056.field_fc_date.0@culturefly.org
DTSTAMP:20260419T121952Z
ATTACH;FMTTYPE=image/jpeg:https://culturefly.org/sites/default/files/event-
 image/Poe%27s%20Birthday%20Weekend%20Edgar%20Allan%20Poe%20Death%20In%20Ba
 ltimore%20Bus%20Tour.jpg
CATEGORIES:Exhibition,History & Heritage
CREATED:20241223T015527Z
DESCRIPTION:Explore the enduring mystery surrounding Poe’s tragic end on a 
 special Bus  Tour of Edgar Allan Poe’s Life and Death in Baltimore. The 90
 -minute tour  ticket includes stops at four important Poe Places around Ba
 ltimore,  including Poe’s graves (he has two!) plus the sites where Poe w
 as found and  passed away. Bus ticket also includes tour of the Edgar Alla
 n Poe House &  Museum. Please note that Poe House is an historic site and 
 not ADA accessible  (there is no elevator or ramp to the second floor.)
DTSTART;TZID=America/New_York:20250118T110000
DTEND;TZID=America/New_York:20250119T140000
GEO:+39.283911;-76.612276
LAST-MODIFIED:20241226T155214Z
LOCATION:Baltimore Visitor Center, 401 Light Street, Baltimore, MD
SUMMARY:Poe's Birthday Weekend Edgar Allan Poe Death In Baltimore Bus Tour
URL:https://www.poeinbaltimore.org/product/edgar-allan-poe-death-tour/
X-GBCA-NID:37056
END:VEVENT
END:VCALENDAR
