BEGIN:VCALENDAR
VERSION:2.0
PRODID:-//Date iCal v2.14-dev//NONSGML kigkonsult.se iCalcreator 2.16.6//
METHOD:PUBLISH
X-WR-CALNAME;VALUE=TEXT:Greater Baltimore Cultural Alliance
BEGIN:VTIMEZONE
TZID:America/New_York
BEGIN:STANDARD
DTSTART:20251102T020000
TZOFFSETFROM:-0400
TZOFFSETTO:-0500
TZNAME:EST
END:STANDARD
BEGIN:DAYLIGHT
DTSTART:20250309T020000
TZOFFSETFROM:-0500
TZOFFSETTO:-0400
TZNAME:EDT
END:DAYLIGHT
END:VTIMEZONE
BEGIN:VEVENT
UID:calendar.37055.field_fc_date.0@culturefly.org
DTSTAMP:20260421T163800Z
ATTACH;FMTTYPE=image/jpeg:https://culturefly.org/sites/default/files/event-
 image/Edgar%20Allan%20Poe%20Birthday%20%26%20Poe%20Toaster%20Murder%20Myst
 ery.jpg
CATEGORIES:Performance,History & Heritage
CREATED:20241223T011241Z
DESCRIPTION:The Poe Toaster is dead, murdered at the grave of Edgar Allan 
 Poe and his  killer is on the loose. Solve the mystery for Poe's birthday!
 \n\nFor decades, a mysterious figure left a tribute of cognac and roses a
 t  literary horror master Edgar Allan Poe's grave in Baltimore. In the fin
 al  years, strangely worded messages were left alongside the mysterious v
 isitor's  gift. The tradition ended abruptly, with no clue as to the fate
  of the  anonymous 'Poe Toaster.'\n\nOr at least... that's what the killer
  wanted the world to believe!
DTSTART;TZID=America/New_York:20250118T183000
DTEND;TZID=America/New_York:20250118T203000
LAST-MODIFIED:20241226T155239Z
LOCATION:Westminster Hall and Burying Ground, 515 W Fayette St, Baltimore
 , MD
SUMMARY:Edgar Allan Poe Birthday & Poe Toaster Murder Mystery
URL:https://book.peek.com/s/43e841c2-02f5-4e8a-926e-1c9d471488c9/jY1Bx
X-GBCA-NID:37055
END:VEVENT
END:VCALENDAR
