BEGIN:VCALENDAR
VERSION:2.0
PRODID:-//Date iCal v2.14-dev//NONSGML kigkonsult.se iCalcreator 2.16.6//
METHOD:PUBLISH
X-WR-CALNAME;VALUE=TEXT:Greater Baltimore Cultural Alliance
BEGIN:VTIMEZONE
TZID:America/New_York
BEGIN:STANDARD
DTSTART:20251102T020000
TZOFFSETFROM:-0400
TZOFFSETTO:-0500
TZNAME:EST
END:STANDARD
BEGIN:DAYLIGHT
DTSTART:20250309T020000
TZOFFSETFROM:-0500
TZOFFSETTO:-0400
TZNAME:EDT
END:DAYLIGHT
END:VTIMEZONE
BEGIN:VEVENT
UID:calendar.37053.field_fc_date.0@culturefly.org
DTSTAMP:20260421T132743Z
ATTACH;FMTTYPE=image/jpeg:https://culturefly.org/sites/default/files/u138/s
 laveryinmotion_hero.jpg
CATEGORIES:Lectures/ Workshops,History & Heritage
CREATED:20241220T161214Z
DESCRIPTION:Join us for a presentation and conversation with members of Rem
 ains // An  Archive Jessica Newby, Samantha Stephens, and Kevin Ah-Sen a
 s they discuss  the inspiration for the multimedia art collection Slavery 
 in Motion with  featured artists: Romaine McNeil, Tatiana Esh, Sha-Shonn
 a Rogers, and Julia  Mallory. Remains // An Archive of the Mellon-funded 
 Diaspora Solidarities Lab  (2022-2024) explores grief through various medi
 a in the arts, digital  storytelling/mapping, and curation.
DTSTART;TZID=America/New_York:20250116T183000
DTEND;TZID=America/New_York:20250116T210000
GEO:+39.325755;-76.61944
LAST-MODIFIED:20251204T081256Z
LOCATION:Baltimore Museum of Art, 10 Art Museum Drive, Baltimore, MD
SUMMARY:Slavery in Motion
URL:https://artbma.org/event/slavery-in-motion/
X-GBCA-NID:37053
END:VEVENT
END:VCALENDAR
