BEGIN:VCALENDAR
VERSION:2.0
PRODID:-//Date iCal v2.14-dev//NONSGML kigkonsult.se iCalcreator 2.16.6//
METHOD:PUBLISH
X-WR-CALNAME;VALUE=TEXT:Greater Baltimore Cultural Alliance
BEGIN:VTIMEZONE
TZID:America/New_York
BEGIN:STANDARD
DTSTART:20251102T020000
TZOFFSETFROM:-0400
TZOFFSETTO:-0500
TZNAME:EST
END:STANDARD
BEGIN:DAYLIGHT
DTSTART:20250309T020000
TZOFFSETFROM:-0500
TZOFFSETTO:-0400
TZNAME:EDT
END:DAYLIGHT
END:VTIMEZONE
BEGIN:VEVENT
UID:calendar.37048.field_fc_date.0@culturefly.org
DTSTAMP:20260420T133407Z
ATTACH;FMTTYPE=image/jpeg:https://culturefly.org/sites/default/files/event-
 image/imgonline-com-ua-twotoone-IdBUmZHVh8.jpg
CATEGORIES:Performance
CREATED:20241219T152736Z
DESCRIPTION:Grammy-winning violinist Jennifer Koh, and Grammy nominated pi
 anist, composer  and MacArthur Genius Award recipient Vijay Iyer, come t
 ogether to make  collaborative fireworks in an evening featuring Bach’s be
 loved works for  solo violin, and brilliant new compositions for violin a
 nd piano by Iyer.
DTSTART;TZID=America/New_York:20250112T160000
DTEND;TZID=America/New_York:20250112T180000
GEO:+39.214008;-76.879426
LAST-MODIFIED:20241220T145959Z
LOCATION:Smith Theatre in the Horowitz Center for Visual and Performing Art
 s at Howard Community College, 10901 Little Patuxent Parkway, Columbia,
  MD
SUMMARY:Chamber Music Maryland Presents Jennifer Koh and Vijay Iyer
URL:https://chambermusicmaryland.org/concerts/2024-2025/jennifer-koh-with-v
 ijay-iyer-violin-and-piano/
X-GBCA-NID:37048
END:VEVENT
END:VCALENDAR
