BEGIN:VCALENDAR
VERSION:2.0
PRODID:-//Date iCal v2.14-dev//NONSGML kigkonsult.se iCalcreator 2.16.6//
METHOD:PUBLISH
X-WR-CALNAME;VALUE=TEXT:Greater Baltimore Cultural Alliance
BEGIN:VTIMEZONE
TZID:America/New_York
BEGIN:STANDARD
DTSTART:20251102T020000
TZOFFSETFROM:-0400
TZOFFSETTO:-0500
TZNAME:EST
END:STANDARD
BEGIN:DAYLIGHT
DTSTART:20250309T020000
TZOFFSETFROM:-0500
TZOFFSETTO:-0400
TZNAME:EDT
END:DAYLIGHT
END:VTIMEZONE
BEGIN:VEVENT
UID:calendar.36934.field_fc_date.0@culturefly.org
DTSTAMP:20260420T101036Z
ATTACH;FMTTYPE=image/png:https://culturefly.org/sites/default/files/GBCA%20
 Holiday%20Event.png
CATEGORIES:Activities,Nightlife,Other,GBCA Events
CREATED:20241119T203705Z
DESCRIPTION:The Greater Baltimore Cultural Alliance (GBCA) invites you to o
 ur annual  Holiday Happy Hour!\n\nJoin fellow artists, administrators and
  arts & culture supporters among the  Baker: Off The Web Exhibition [1] at
  The Peale. Enjoy snacks, drinks, and  great art in the oldest museum bu
 ilding in America.\n\nRSVP at www.baltimoreculture.org/happyhour [2]\n\nLe
 arn more about Baker: Off The Web here! [3]\n\n\n[1] http://www.bakerartis
 t.org/otw [2] https://www.baltimoreculture.org/happyhour [3] http://www.ba
 kerartist.org/otw
DTSTART;TZID=America/New_York:20241206T170000
DTEND;TZID=America/New_York:20241206T190000
GEO:+39.290869;-76.610639
LAST-MODIFIED:20241204T013831Z
LOCATION:The Peale Museum, 225 North Holliday Street, Baltimore, MD
SUMMARY:GBCA Holiday Happy Hour
URL:www.baltimoreculture.org/happyhour
X-GBCA-NID:36934
END:VEVENT
END:VCALENDAR
