BEGIN:VCALENDAR
VERSION:2.0
PRODID:-//Date iCal v2.14-dev//NONSGML kigkonsult.se iCalcreator 2.16.6//
METHOD:PUBLISH
X-WR-CALNAME;VALUE=TEXT:Greater Baltimore Cultural Alliance
BEGIN:VTIMEZONE
TZID:America/New_York
BEGIN:STANDARD
DTSTART:20251102T020000
TZOFFSETFROM:-0400
TZOFFSETTO:-0500
TZNAME:EST
END:STANDARD
BEGIN:DAYLIGHT
DTSTART:20260308T020000
TZOFFSETFROM:-0500
TZOFFSETTO:-0400
TZNAME:EDT
END:DAYLIGHT
END:VTIMEZONE
BEGIN:VEVENT
UID:calendar.36891.field_fc_date.0@culturefly.org
DTSTAMP:20260421T232105Z
ATTACH;FMTTYPE=image/png:https://culturefly.org/sites/default/files/event-i
 mage/HCS%20small%20picture_3.png
CATEGORIES:Performance
CREATED:20241111T080527Z
DESCRIPTION:The spring program will feature the Fauré /Requiem/, Thompson’
 s  /Alleluia/, /The Road Home/ by Stephen Paulus, as well as timeless wo
 rks by  Brahms and Schubert.\n\nThis event will also feature our Silent Au
 ction fundraiser. Find a nice treat  for yourself or for Mother’s Day!\n\n
 For ticket prices and purchasing, visit www.harfordchoralsociety.org [1]
 \n\n\n[1] http://www.harfordchoralsociety.org
DTSTART;TZID=America/New_York:20250503T190000
DTEND;TZID=America/New_York:20250503T203000
GEO:+39.543921;-76.326834
LAST-MODIFIED:20241112T182518Z
LOCATION:St. Matthew Lutheran Church, 1200 E. Churchville Road, Bel Air,
  MD
SUMMARY:Harford Choral Society Spring Concert
URL:www.harfordchoralsociety.org
X-GBCA-NID:36891
END:VEVENT
END:VCALENDAR
