BEGIN:VCALENDAR
VERSION:2.0
PRODID:-//Date iCal v2.14-dev//NONSGML kigkonsult.se iCalcreator 2.16.6//
METHOD:PUBLISH
X-WR-CALNAME;VALUE=TEXT:Greater Baltimore Cultural Alliance
BEGIN:VTIMEZONE
TZID:America/New_York
BEGIN:STANDARD
DTSTART:20251102T020000
TZOFFSETFROM:-0400
TZOFFSETTO:-0500
TZNAME:EST
END:STANDARD
BEGIN:DAYLIGHT
DTSTART:20250309T020000
TZOFFSETFROM:-0500
TZOFFSETTO:-0400
TZNAME:EDT
END:DAYLIGHT
END:VTIMEZONE
BEGIN:VEVENT
UID:calendar.36778.field_fc_date.0@culturefly.org
DTSTAMP:20260421T132753Z
ATTACH;FMTTYPE=image/jpeg:https://culturefly.org/sites/default/files/event-
 image/AAC%20Slide%202024%203.jpg
CATEGORIES:Professional Development
CREATED:20241025T172813Z
DESCRIPTION:*Event:* 22st Annual Autism Conference: Innovations in Autism C
 are and  Education\n\n*Live Sessions: *December 10, 2024\n\n*Registration
  for on demand access to all sessions available through  2/28/2025*\n\n*CE
 Us Available (ASHA, Social Work, OT, BACB)*
DTSTART;VALUE=DATE:20241210
DTEND;VALUE=DATE:20250301
LAST-MODIFIED:20241030T154137Z
LOCATION:Virtual Event!, This event takes place online., Participate from
  Anywhere you are!, MD
RRULE:FREQ=DAILY;UNTIL=20250301T095959Z;INTERVAL=1;WKST=SU
SUMMARY:22st Annual Autism Conference: Innovations in Autism Care and Educa
 tion
URL:http://www.kennedykrieger.org/AutismConference2024
X-GBCA-NID:36778
END:VEVENT
END:VCALENDAR
