BEGIN:VCALENDAR
VERSION:2.0
PRODID:-//Date iCal v2.14-dev//NONSGML kigkonsult.se iCalcreator 2.16.6//
METHOD:PUBLISH
X-WR-CALNAME;VALUE=TEXT:Greater Baltimore Cultural Alliance
BEGIN:VTIMEZONE
TZID:America/New_York
BEGIN:STANDARD
DTSTART:20241103T020000
TZOFFSETFROM:-0400
TZOFFSETTO:-0500
TZNAME:EST
END:STANDARD
BEGIN:DAYLIGHT
DTSTART:20250309T020000
TZOFFSETFROM:-0500
TZOFFSETTO:-0400
TZNAME:EDT
END:DAYLIGHT
END:VTIMEZONE
BEGIN:VEVENT
UID:calendar.36405.field_fc_date.0@culturefly.org
DTSTAMP:20260424T104001Z
ATTACH;FMTTYPE=image/png:https://culturefly.org/sites/default/files/event-i
 mage/FB%20Event%20Cover%20for%2010-6-24.png
CATEGORIES:Baker Artist,Performance,Activities,Outdoors
CREATED:20240906T184343Z
DESCRIPTION:Join Sahffi and our hosts at Turtle Grove for a 'Sacred Song Ci
 rcle Share'  around the fire. All are welcome, including your kiddos! __ 
 Sunday, October 6, 2024 3 - 6 pm DM for address (Baltimore, MD) (This i
 s the rescheduled date from the rain cancellation on Aug. 29th) __ Join Sa
 hffi and our hosts Ben & Renee at Turtle Grove for a community song  circl
 e share. Come bring your instruments and share your voice and medicine  so
 ngs with community.
DTSTART;TZID=America/New_York:20241006T190000
DTEND;TZID=America/New_York:20241006T210000
LAST-MODIFIED:20240910T135130Z
LOCATION:Turtle Grove, Private residence, Baltimore, MD
SUMMARY:Sacred Song Circle Share
URL:https://www.facebook.com/events/1662102024641308
X-GBCA-NID:36405
END:VEVENT
END:VCALENDAR
