BEGIN:VCALENDAR
VERSION:2.0
PRODID:-//Date iCal v2.14-dev//NONSGML kigkonsult.se iCalcreator 2.16.6//
METHOD:PUBLISH
X-WR-CALNAME;VALUE=TEXT:Greater Baltimore Cultural Alliance
BEGIN:VTIMEZONE
TZID:America/New_York
BEGIN:STANDARD
DTSTART:20241103T020000
TZOFFSETFROM:-0400
TZOFFSETTO:-0500
TZNAME:EST
END:STANDARD
BEGIN:DAYLIGHT
DTSTART:20250309T020000
TZOFFSETFROM:-0500
TZOFFSETTO:-0400
TZNAME:EDT
END:DAYLIGHT
END:VTIMEZONE
BEGIN:VEVENT
UID:calendar.36293.field_fc_date.0@culturefly.org
DTSTAMP:20260420T211708Z
ATTACH;FMTTYPE=image/png:https://culturefly.org/sites/default/files/Farm.pn
 g
CATEGORIES:Baker Artist,Lectures/ Workshops,Activities,Other
CREATED:20240820T154317Z
DESCRIPTION:The world we find ourselves inhabiting and the circumstances we
 ’re facing  threaten to silence even the most resilient writer. But what m
 ight come of  looking deeply at the unbeautiful, the overlooked, worn, 
 and even the ruined?   What happens when you enter the act of looking so d
 eeply you unexpectedly  find yourself in a new place, with a surprising s
 tance or changed belief?
DTSTART;TZID=America/New_York:20240831T170000
DTEND;TZID=America/New_York:20240831T203000
LAST-MODIFIED:20240820T160439Z
LOCATION:Good Contrivance Farm, 2015 Emory Road, Reisterstown, MD
SUMMARY:Writing Through the Anthropocene
URL:https://historicfarm.org/purpura/
X-GBCA-NID:36293
END:VEVENT
END:VCALENDAR
