BEGIN:VCALENDAR
VERSION:2.0
PRODID:-//Date iCal v2.14-dev//NONSGML kigkonsult.se iCalcreator 2.16.6//
METHOD:PUBLISH
X-WR-CALNAME;VALUE=TEXT:Greater Baltimore Cultural Alliance
BEGIN:VTIMEZONE
TZID:America/New_York
BEGIN:STANDARD
DTSTART:20251102T020000
TZOFFSETFROM:-0400
TZOFFSETTO:-0500
TZNAME:EST
END:STANDARD
BEGIN:DAYLIGHT
DTSTART:20260308T020000
TZOFFSETFROM:-0500
TZOFFSETTO:-0400
TZNAME:EDT
END:DAYLIGHT
END:VTIMEZONE
BEGIN:VEVENT
UID:calendar.36261.field_fc_date.0@culturefly.org
DTSTAMP:20260421T132600Z
ATTACH;FMTTYPE=image/jpeg:https://culturefly.org/sites/default/files/event-
 image/Calendar%20Listing%20%281920%20x%201080%29%20small.jpg
CATEGORIES:Outdoors
CREATED:20240815T205256Z
DESCRIPTION:Lace up your running shoes and get ready for Ronald McDonald Ho
 use Charities  of Maryland’s 14th Annual Red Shoe Shuffle 5K Run and Walk 
 on Sunday, April  27, 2025, beginning at 8:30 am. Always the Happiest M
 orning in Maryland,  thousands of Shufflers line up their red, white, a
 nd striped socks to show  our RMH families that they have the support of o
 ur incredible community as  they fight the battle of their lives.
DTSTART;TZID=America/New_York:20250427T083000
DTEND;TZID=America/New_York:20250427T110000
LAST-MODIFIED:20240820T144113Z
LOCATION:Ronald McDonald House Charities of Maryland, 1 Aisquith Street, 
 Baltimore, MD
SUMMARY:Red Shoe Shuffle 2025 5k Run and Walk
URL:http://redshoeshuffle.org
X-GBCA-NID:36261
END:VEVENT
END:VCALENDAR
