BEGIN:VCALENDAR
VERSION:2.0
PRODID:-//Date iCal v2.14-dev//NONSGML kigkonsult.se iCalcreator 2.16.6//
METHOD:PUBLISH
X-WR-CALNAME;VALUE=TEXT:Greater Baltimore Cultural Alliance
BEGIN:VTIMEZONE
TZID:America/New_York
BEGIN:STANDARD
DTSTART:20151101T020000
TZOFFSETFROM:-0400
TZOFFSETTO:-0500
TZNAME:EST
END:STANDARD
BEGIN:DAYLIGHT
DTSTART:20150308T020000
TZOFFSETFROM:-0500
TZOFFSETTO:-0400
TZNAME:EDT
END:DAYLIGHT
END:VTIMEZONE
BEGIN:VEVENT
UID:calendar.3624.field_fc_date.0@culturefly.org
DTSTAMP:20260426T043547Z
ATTACH;FMTTYPE=image/jpeg:https://culturefly.org/sites/default/files/event-
 image/December%2020%2C%202014.jpg
CATEGORIES:,Performance
CREATED:20141203T043154Z
DESCRIPTION:The first official show for Comedy at Collectors Corner with Dr
 op Three and  Friends [1] promises to be a big one. And since we don't car
 e what holiday  you are celebrating you can come out and join us December 
 20, 2014 at 8PM at  Collectors Corner MD, for some of the best sketch an
 d improv comedy whatever  deity you prefer has ever seen. Tickets are just
  $10 and they make an  excellent stocking stuffer / substitute for coal an
 d switches!\n\n\n[1] https://www.facebook.com/dropthreeatcollectorscorner
DTSTART;TZID=America/New_York:20141220T200000
DTEND;TZID=America/New_York:20141220T213000
GEO:+39.374803;-76.541818
LAST-MODIFIED:20141203T211947Z
LOCATION:Collectors Corner MD, 7911 Harford Road, Baltimore, MD
SUMMARY:Drop Three Presents: Insert Your Holiday of Choice HERE!
URL:www.dropthree.com
X-GBCA-NID:3624
END:VEVENT
END:VCALENDAR
