BEGIN:VCALENDAR
VERSION:2.0
PRODID:-//Date iCal v2.14-dev//NONSGML kigkonsult.se iCalcreator 2.16.6//
METHOD:PUBLISH
X-WR-CALNAME;VALUE=TEXT:Greater Baltimore Cultural Alliance
BEGIN:VTIMEZONE
TZID:America/New_York
BEGIN:STANDARD
DTSTART:20241103T020000
TZOFFSETFROM:-0400
TZOFFSETTO:-0500
TZNAME:EST
END:STANDARD
BEGIN:DAYLIGHT
DTSTART:20250309T020000
TZOFFSETFROM:-0500
TZOFFSETTO:-0400
TZNAME:EDT
END:DAYLIGHT
END:VTIMEZONE
BEGIN:VEVENT
UID:calendar.36174.field_fc_date.0@culturefly.org
DTSTAMP:20260420T091233Z
ATTACH;FMTTYPE=image/png:https://culturefly.org/sites/default/files/event-i
 mage/Event%20-%20%20Yoga.png
CATEGORIES:Activities,Professional Development
CREATED:20240731T142024Z
DESCRIPTION:Baltimore Coworking Week is a city-wide collaboration between l
 ocal coworking  businesses that culminates with the celebration of Interna
 tional Coworking  Day on Aug 9.\n\nYou're invtied to experience the unique
  community and space. Being able to  share space as we work toward our ind
 ividual missions alongside other  changemakers who share our values is an 
 empowering tool to achieve our goals.
DTSTART;TZID=America/New_York:20240809T093000
DTEND;TZID=America/New_York:20240809T170000
GEO:+39.311515;-76.617387
LAST-MODIFIED:20240731T191336Z
LOCATION:Impact Hub Baltimore, 10 E North Ave, Baltimore, MD
SUMMARY:International Coworking Day @ Impact Hub
URL:https://www.eventbrite.com/e/international-coworking-day-impact-hub-tic
 kets-966298243057?aff=oddtdtcreator
X-GBCA-NID:36174
END:VEVENT
END:VCALENDAR
