BEGIN:VCALENDAR
VERSION:2.0
PRODID:-//Date iCal v2.14-dev//NONSGML kigkonsult.se iCalcreator 2.16.6//
METHOD:PUBLISH
X-WR-CALNAME;VALUE=TEXT:Greater Baltimore Cultural Alliance
BEGIN:VTIMEZONE
TZID:America/New_York
BEGIN:STANDARD
DTSTART:20241103T020000
TZOFFSETFROM:-0400
TZOFFSETTO:-0500
TZNAME:EST
END:STANDARD
BEGIN:DAYLIGHT
DTSTART:20250309T020000
TZOFFSETFROM:-0500
TZOFFSETTO:-0400
TZNAME:EDT
END:DAYLIGHT
END:VTIMEZONE
BEGIN:VEVENT
UID:calendar.36156.field_fc_date.0@culturefly.org
DTSTAMP:20260420T232309Z
ATTACH;FMTTYPE=image/png:https://culturefly.org/sites/default/files/event-i
 mage/Artscape-Flier-1.png
CATEGORIES:Activities
CREATED:20240725T202622Z
DESCRIPTION:MICA Art Market x Artscape\n\nBrown Center\n\n1301 W Mt. Royal 
 Ave.\n\nBaltimore, MD 21217\n\nAugust 2 - 4, 2024\n\nFriday, 5-9pm\n\nS
 aturday, 11 - 9pm\n\nSunday, 11 - 5pm
DTSTART;TZID=America/New_York:20240802T170000
DTEND;TZID=America/New_York:20240802T210000
GEO:+39.308455;-76.620789
LAST-MODIFIED:20240729T163002Z
LOCATION:Brown Center: Leidy Atrium and Falvey Hall lobby, 1301 W. Mount R
 oyal Ave., Baltimore, MD
SUMMARY:MICA Art Market
URL:https://www.micarcce.com/artscaperoster
X-GBCA-NID:36156
END:VEVENT
BEGIN:VEVENT
UID:calendar.36156.field_fc_date.0@culturefly.org
DTSTAMP:20260420T232309Z
ATTACH;FMTTYPE=image/png:https://culturefly.org/sites/default/files/event-i
 mage/Artscape-Flier-1.png
CATEGORIES:Activities
CREATED:20240725T202622Z
DESCRIPTION:MICA Art Market x Artscape\n\nBrown Center\n\n1301 W Mt. Royal 
 Ave.\n\nBaltimore, MD 21217\n\nAugust 2 - 4, 2024\n\nFriday, 5-9pm\n\nS
 aturday, 11 - 9pm\n\nSunday, 11 - 5pm
DTSTART;TZID=America/New_York:20240803T110000
DTEND;TZID=America/New_York:20240803T210000
GEO:+39.308455;-76.620789
LAST-MODIFIED:20240729T163002Z
LOCATION:Brown Center: Leidy Atrium and Falvey Hall lobby, 1301 W. Mount R
 oyal Ave., Baltimore, MD
SUMMARY:MICA Art Market
URL:https://www.micarcce.com/artscaperoster
X-GBCA-NID:36156
END:VEVENT
BEGIN:VEVENT
UID:calendar.36156.field_fc_date.0@culturefly.org
DTSTAMP:20260420T232309Z
ATTACH;FMTTYPE=image/png:https://culturefly.org/sites/default/files/event-i
 mage/Artscape-Flier-1.png
CATEGORIES:Activities
CREATED:20240725T202622Z
DESCRIPTION:MICA Art Market x Artscape\n\nBrown Center\n\n1301 W Mt. Royal 
 Ave.\n\nBaltimore, MD 21217\n\nAugust 2 - 4, 2024\n\nFriday, 5-9pm\n\nS
 aturday, 11 - 9pm\n\nSunday, 11 - 5pm
DTSTART;TZID=America/New_York:20240804T110000
DTEND;TZID=America/New_York:20240804T170000
GEO:+39.308455;-76.620789
LAST-MODIFIED:20240729T163002Z
LOCATION:Brown Center: Leidy Atrium and Falvey Hall lobby, 1301 W. Mount R
 oyal Ave., Baltimore, MD
SUMMARY:MICA Art Market
URL:https://www.micarcce.com/artscaperoster
X-GBCA-NID:36156
END:VEVENT
END:VCALENDAR
