BEGIN:VCALENDAR
VERSION:2.0
PRODID:-//Date iCal v2.14-dev//NONSGML kigkonsult.se iCalcreator 2.16.6//
METHOD:PUBLISH
X-WR-CALNAME;VALUE=TEXT:Greater Baltimore Cultural Alliance
BEGIN:VTIMEZONE
TZID:America/New_York
BEGIN:STANDARD
DTSTART:20241103T020000
TZOFFSETFROM:-0400
TZOFFSETTO:-0500
TZNAME:EST
END:STANDARD
BEGIN:DAYLIGHT
DTSTART:20250309T020000
TZOFFSETFROM:-0500
TZOFFSETTO:-0400
TZNAME:EDT
END:DAYLIGHT
END:VTIMEZONE
BEGIN:VEVENT
UID:calendar.36155.field_fc_date.0@culturefly.org
DTSTAMP:20260420T090053Z
ATTACH;FMTTYPE=image/png:https://culturefly.org/sites/default/files/FirstTh
 ursday.png
CATEGORIES:Performance,Activities,Nightlife,Outdoors,Other
CREATED:20240725T190717Z
DESCRIPTION:Dance the night away and admire the sunset along Baltimore’s sc
 enic  waterfront. Enjoy delicious local fare from a variety of food and be
 verage  vendors. Support local artisans, makers, and manufacturers, inc
 luding an  expanded Baker Artist Alley. There’s something for everyone at 
 First  Thursdays. It’s where community happens.\n\nLearn more at https://w
 ww.wtmd.org/radio/first-thursday-concerts-in-the-park  [1]\n\n\n[1] https:
 //www.wtmd.org/radio/first-thursday-concerts-in-the-park
DTSTART;TZID=America/New_York:20240801T180000
DTEND;TZID=America/New_York:20240801T220000
GEO:+39.277841;-76.573886
LAST-MODIFIED:20240725T190717Z
LOCATION:Canton Waterfront Park, 3001 Boston Street, Baltimore, MD
SUMMARY:WTMD’s First Thursday Festival
URL:https://www.wtmd.org/radio/first-thursday-concerts-in-the-park
X-GBCA-NID:36155
END:VEVENT
END:VCALENDAR
