BEGIN:VCALENDAR
VERSION:2.0
PRODID:-//Date iCal v2.14-dev//NONSGML kigkonsult.se iCalcreator 2.16.6//
METHOD:PUBLISH
X-WR-CALNAME;VALUE=TEXT:Greater Baltimore Cultural Alliance
BEGIN:VTIMEZONE
TZID:America/New_York
BEGIN:STANDARD
DTSTART:20241103T020000
TZOFFSETFROM:-0400
TZOFFSETTO:-0500
TZNAME:EST
END:STANDARD
BEGIN:DAYLIGHT
DTSTART:20250309T020000
TZOFFSETFROM:-0500
TZOFFSETTO:-0400
TZNAME:EDT
END:DAYLIGHT
END:VTIMEZONE
BEGIN:VEVENT
UID:calendar.36132.field_fc_date.0@culturefly.org
DTSTAMP:20260420T133617Z
ATTACH;FMTTYPE=image/png:https://culturefly.org/sites/default/files/event-i
 mage/Riverside%20August%202024-2-Instagram%20Square.png
CATEGORIES:Performance,Activities,Nightlife
CREATED:20240723T192137Z
DESCRIPTION:Join Highwire Improv for a high-energy night of comedy with som
 e of the  city's best comedians.\n\nNever been to an improv show? It's spo
 ntaneous theater, off-the-cuff laughs,  and a real good time! You'll get
  to see some of Baltimore's best improv  comedy troupes do what they do be
 st!\n\nOur lineup - show starts at 7pm ET:\n\nWhatever This Is are a four 
 person team comprised of improv experts who can  perform any form, real o
 r imagined. They use their proprietary Cone of  Silence technology to devi
 se a brand new show in front of the audience's  eyes.
DTSTART;TZID=America/New_York:20240816T190000
DTEND;TZID=America/New_York:20240816T210000
LAST-MODIFIED:20260130T001300Z
LOCATION:Riverside Third Space, 1530 Battery Avenue, Baltimore, MD
SUMMARY:Basement Games: Improv Comedy Inspired by Tabletop Games
URL:https://www.highwireimprov.com
X-GBCA-NID:36132
END:VEVENT
END:VCALENDAR
