BEGIN:VCALENDAR
VERSION:2.0
PRODID:-//Date iCal v2.14-dev//NONSGML kigkonsult.se iCalcreator 2.16.6//
METHOD:PUBLISH
X-WR-CALNAME;VALUE=TEXT:Greater Baltimore Cultural Alliance
BEGIN:VTIMEZONE
TZID:America/New_York
BEGIN:STANDARD
DTSTART:20241103T020000
TZOFFSETFROM:-0400
TZOFFSETTO:-0500
TZNAME:EST
END:STANDARD
BEGIN:DAYLIGHT
DTSTART:20250309T020000
TZOFFSETFROM:-0500
TZOFFSETTO:-0400
TZNAME:EDT
END:DAYLIGHT
END:VTIMEZONE
BEGIN:VEVENT
UID:calendar.36114.field_fc_date.0@culturefly.org
DTSTAMP:20260420T101927Z
ATTACH;FMTTYPE=image/png:https://culturefly.org/sites/default/files/event-i
 mage/Copy%20of%20Happy%20Birthday%2C%20Peale%20center%20%281%29.png
CATEGORIES:Performance,Activities
CREATED:20240723T000051Z
DESCRIPTION:Firetrucks, Fossils, and Fun at The Peale's Birthday Bash Aug
 ust 17, 2024 | 10am-4pm FREE | RSVP in advance to reserve a spot!\n\nIt's
  a major party! Celebrate The Peale's 210th birthday with us on August  17
 . This all-day event will include family-friendly performances, special  
 building tours, cake, crafts, a visit with local African American  fire
 fighters, and more! Plus, the hands-on exhibition Founding Fossils will 
  be on display! Reserve your spot today. Don't miss this free event for th
 e  whole family.\n\nPlease share this event with others in your circle!
DTSTART;TZID=America/New_York:20240817T100000
DTEND;TZID=America/New_York:20240817T160000
GEO:+39.291844;-76.610129
LAST-MODIFIED:20240723T132312Z
LOCATION:The Peale Center for Baltimore History and Architecture, 225 Holl
 iday Street, Baltimore, MD
SUMMARY:The Peale's 210th Birthday Bash
URL:https://www.tickettailor.com/events/thepeale/1290253
X-GBCA-NID:36114
END:VEVENT
END:VCALENDAR
