BEGIN:VCALENDAR
VERSION:2.0
PRODID:-//Date iCal v2.14-dev//NONSGML kigkonsult.se iCalcreator 2.16.6//
METHOD:PUBLISH
X-WR-CALNAME;VALUE=TEXT:Greater Baltimore Cultural Alliance
BEGIN:VTIMEZONE
TZID:America/New_York
BEGIN:STANDARD
DTSTART:20241103T020000
TZOFFSETFROM:-0400
TZOFFSETTO:-0500
TZNAME:EST
END:STANDARD
BEGIN:DAYLIGHT
DTSTART:20250309T020000
TZOFFSETFROM:-0500
TZOFFSETTO:-0400
TZNAME:EDT
END:DAYLIGHT
END:VTIMEZONE
BEGIN:VEVENT
UID:calendar.36055.field_fc_date.0@culturefly.org
DTSTAMP:20260420T133347Z
ATTACH;FMTTYPE=image/png:https://culturefly.org/sites/default/files/event-i
 mage/BHS%20Water%20Taxi%20Aug-Oct-2-Instagram%20New%20Dates.png
CATEGORIES:Performance,Activities,History & Heritage,Nightlife,Outdoors
CREATED:20240713T181120Z
DESCRIPTION:Welcome to Baltimore Holy S#!T - the greatest comedy tour in th
 e greatest  city in America.\n\nJoin us for a hilarious voyage around the 
 inner harbor where we'll explore  Baltimore's history, landmarks, most r
 idiculous people, and get to know each  other through the lens of two ver
 y weird, very funny Highwire Improv hosts.\n\nYou'll get real history, r
 ealer laughs, and the realest look at Baltimore -  not some grubby pamphl
 et with the same old ten facts covered in Old Bay.\n\nWhat to Bring:\n\nYo
 urself, in a positive, community loving mood\n\nFriends, family and/or 
 foes
DTSTART;TZID=America/New_York:20240815T190000
DTEND;TZID=America/New_York:20240815T210000
LAST-MODIFIED:20240716T143702Z
LOCATION:Baltimore Water Taxi, 901 South Broadway, Baltimore, MD
SUMMARY:Baltimore Holy S#!T: An Unforgettable Comedy Tour on a Boat!
URL:https://www.highwireimprov.com
X-GBCA-NID:36055
END:VEVENT
BEGIN:VEVENT
UID:calendar.36055.field_fc_date.0@culturefly.org
DTSTAMP:20260420T133347Z
ATTACH;FMTTYPE=image/png:https://culturefly.org/sites/default/files/event-i
 mage/BHS%20Water%20Taxi%20Aug-Oct-2-Instagram%20New%20Dates.png
CATEGORIES:Performance,Activities,History & Heritage,Nightlife,Outdoors
CREATED:20240713T181120Z
DESCRIPTION:Welcome to Baltimore Holy S#!T - the greatest comedy tour in th
 e greatest  city in America.\n\nJoin us for a hilarious voyage around the 
 inner harbor where we'll explore  Baltimore's history, landmarks, most r
 idiculous people, and get to know each  other through the lens of two ver
 y weird, very funny Highwire Improv hosts.\n\nYou'll get real history, r
 ealer laughs, and the realest look at Baltimore -  not some grubby pamphl
 et with the same old ten facts covered in Old Bay.\n\nWhat to Bring:\n\nYo
 urself, in a positive, community loving mood\n\nFriends, family and/or 
 foes
DTSTART;TZID=America/New_York:20240912T190000
DTEND;TZID=America/New_York:20240912T210000
LAST-MODIFIED:20240716T143702Z
LOCATION:Baltimore Water Taxi, 901 South Broadway, Baltimore, MD
SUMMARY:Baltimore Holy S#!T: An Unforgettable Comedy Tour on a Boat!
URL:https://www.highwireimprov.com
X-GBCA-NID:36055
END:VEVENT
BEGIN:VEVENT
UID:calendar.36055.field_fc_date.0@culturefly.org
DTSTAMP:20260420T133347Z
ATTACH;FMTTYPE=image/png:https://culturefly.org/sites/default/files/event-i
 mage/BHS%20Water%20Taxi%20Aug-Oct-2-Instagram%20New%20Dates.png
CATEGORIES:Performance,Activities,History & Heritage,Nightlife,Outdoors
CREATED:20240713T181120Z
DESCRIPTION:Welcome to Baltimore Holy S#!T - the greatest comedy tour in th
 e greatest  city in America.\n\nJoin us for a hilarious voyage around the 
 inner harbor where we'll explore  Baltimore's history, landmarks, most r
 idiculous people, and get to know each  other through the lens of two ver
 y weird, very funny Highwire Improv hosts.\n\nYou'll get real history, r
 ealer laughs, and the realest look at Baltimore -  not some grubby pamphl
 et with the same old ten facts covered in Old Bay.\n\nWhat to Bring:\n\nYo
 urself, in a positive, community loving mood\n\nFriends, family and/or 
 foes
DTSTART;TZID=America/New_York:20241010T183000
DTEND;TZID=America/New_York:20241010T203000
LAST-MODIFIED:20240716T143702Z
LOCATION:Baltimore Water Taxi, 901 South Broadway, Baltimore, MD
SUMMARY:Baltimore Holy S#!T: An Unforgettable Comedy Tour on a Boat!
URL:https://www.highwireimprov.com
X-GBCA-NID:36055
END:VEVENT
END:VCALENDAR
